{"text_format":"1","workbook":"xlsx","n_sheets":3,"sheets":["calc","const","data"],"not_rendered":{"charts":1,"images":0,"macros":1,"external_links":0,"defined_names":0,"comments":0,"pivot_tables":0},"unopened":[],"bounds":{"document_bytes":16777216,"sheet_cells":100000,"rows_first":2000,"rows_last":500,"rows_between":2000,"halvings":0,"cell_chars":16384,"cell_head_chars":4096},"cells_cut":0,"cells_raw":0,"read":"whole","date_system":"1904"}

{"sheet":"calc","index":0,"n_rows":12,"n_cols":4,"rows_kept":12,"cut":false,"hidden":false,"merged":[]}
[]
[null,"kT",{"$f":"const!C15","v":2.5852026903638286E-2},"eV"]
[null,"Jph_A",34,"mA/cm^2"]
[null,"Jph_B",30,"mA/cm^2"]
[null,"J0_A",9.8000000000000001E-9,"mA/cm^2"]
[null,"J0_B",3.6E-10,"mA/cm^2"]
[null,"n",1]
[]
[null,"JnetA",{"$f":"C3+C5","v":34.000000009799997},"mA/cm^2"]
[null,"JnetB",{"$f":"C4+C6","v":30.00000000036},"mA/cm^2"]
[null,"<Jnet>",{"$f":"(C9+C10)/2","v":32.000000005079997},"mA/cm^2"]
[null,"dJnet",{"$f":"C9-C10","v":4.0000000094399972},"mA/cm^2"]

{"sheet":"const","index":1,"n_rows":27,"n_cols":9,"rows_kept":27,"cut":false,"hidden":false,"merged":[]}
["Fundamental Constants:"]
["Description"]
["Planck constant","h (J.s)",6.6260687599999996E-34,null,"h (eV.s)",{"$f":"C3/C5","v":4.13566727333434E-15}]
["speed of light","c (m/s)",299792458]
["fundamental electric charge","e (C)",1.6021764620000001E-19]
["Boltzmann constant","k_B (J/K)",1.3806503000000001E-23,null,"k_B (eV/K)",{"$f":"C6/C5","v":8.6173423012127608E-5}]
["electron mass","m_e (kg)",9.1093818800000006E-31,null,"m_e·c^2 (J)",{"$f":"C7*C4^2","v":8.1871041397413285E-14},null,"m_e·c^2 (eV)",{"$f":"F7/C5","v":510998.90267526149}]
["Avagodro number","N_A (1/mole)",6.0221415000000003E+23]
["permitivitty of free space","eps0 (F/m)",8.8541878170000005E-12]
[]
[]
[]
["Derived Constants:"]
["Description"]
["room temp. thermal energy","k_B·(300K) (eV)",{"$f":"300*const!C6/const!C5","v":2.5852026903638286E-2}]
["Planck constant x speed of light","h·c (eV·nm)",{"$f":"const!F3*const!C4*1000000000","v":1239.8418573430597},null,"h·c (KeV·nm)",{"$f":"C16/1000","v":1.2398418573430596}]
["universal gas constant","R (J/mol/K)",{"$f":"const!C6*const!C8","v":8.3144714686174517}]
["Faraday Constant","F (C/mol)",{"$f":"const!C8*const!C5","v":96485.333621333746}]
["Stefan Constant","ss (W.m^2/K)",{"$f":"2*PI()^5/15*C6^4/C3^3/C4^2","v":5.6703993443637977E-8}]
["h_bar",null,{"$f":"C3/2/PI()","v":1.0545715964207855E-34}]
["Bohr Radius","a0 (m)",{"$f":"4*PI()*C9*C20^2/C7/C5^2","v":5.2917720857030988E-11}]
["Rydberg",null,{"$f":"C20^2/2/C7/C21^2","v":2.1798719016382761E-18},null,null,{"$f":"C22/C5","v":13.60569171586217}]
["Reference effective DOS","N0 (cm^-3)",{"$f":"2*(2*PI()*I7*C15/(C16/10000000)^2)^1.5","v":2.5094165960582709E+19}]
[]
["astronomical values"]
["earth-sun distance","Des (m)",150000000000]
["sun diameter","ds (m)",1390000000]

{"sheet":"data","index":2,"n_rows":64,"n_cols":6,"rows_kept":64,"cut":false,"hidden":false,"merged":[]}
["V","J","VA","VB","JA","JB"]
[-0.1,{"$f":"calc!C$11-SQRT((calc!C$12/2)^2+calc!C$5*calc!C$6*EXP(data!A2/calc!C$7/calc!C$2))","v":30.000000000359996},{"$f":"calc!C$7*calc!C$2*LN((calc!C$3-data!B2)/calc!C$5+1)","v":0.51257273429013139},{"$f":"calc!C$7*calc!C$2*LN((calc!C$4-data!B2)/calc!C$6+1)","v":-0.29819193875927669},{"$f":"calc!C$3-calc!C$5*(EXP(data!A2/calc!C$7/calc!C$2)-1)","v":34.000000009595212},{"$f":"calc!C$4-calc!C$6*(EXP(data!A2/calc!C$7/calc!C$2)-1)","v":30.000000000352479}]
[-0.05,{"$f":"calc!C$11-SQRT((calc!C$12/2)^2+calc!C$5*calc!C$6*EXP(data!A3/calc!C$7/calc!C$2))","v":30.000000000359996},{"$f":"calc!C$7*calc!C$2*LN((calc!C$3-data!B3)/calc!C$5+1)","v":0.51257273429013139},{"$f":"calc!C$7*calc!C$2*LN((calc!C$4-data!B3)/calc!C$6+1)","v":-0.29819193875927669},{"$f":"calc!C$3-calc!C$5*(EXP(data!A3/calc!C$7/calc!C$2)-1)","v":34.000000008383346},{"$f":"calc!C$4-calc!C$6*(EXP(data!A3/calc!C$7/calc!C$2)-1)","v":30.00000000030796}]
[0,{"$f":"calc!C$11-SQRT((calc!C$12/2)^2+calc!C$5*calc!C$6*EXP(data!A4/calc!C$7/calc!C$2))","v":30.000000000359996},{"$f":"calc!C$7*calc!C$2*LN((calc!C$3-data!B4)/calc!C$5+1)","v":0.51257273429013139},{"$f":"calc!C$7*calc!C$2*LN((calc!C$4-data!B4)/calc!C$6+1)","v":-0.29819193875927669},{"$f":"calc!C$3-calc!C$5*(EXP(data!A4/calc!C$7/calc!C$2)-1)","v":34},{"$f":"calc!C$4-calc!C$6*(EXP(data!A4/calc!C$7/calc!C$2)-1)","v":30}]
[5.0000000000000017E-2,{"$f":"calc!C$11-SQRT((calc!C$12/2)^2+calc!C$5*calc!C$6*EXP(data!A5/calc!C$7/calc!C$2))","v":30.000000000359996},{"$f":"calc!C$7*calc!C$2*LN((calc!C$3-data!B5)/calc!C$5+1)","v":0.51257273429013139},{"$f":"calc!C$7*calc!C$2*LN((calc!C$4-data!B5)/calc!C$6+1)","v":-0.29819193875927669},{"$f":"calc!C$3-calc!C$5*(EXP(data!A5/calc!C$7/calc!C$2)-1)","v":33.999999942006475},{"$f":"calc!C$4-calc!C$6*(EXP(data!A5/calc!C$7/calc!C$2)-1)","v":29.999999997869626}]
[0.1,{"$f":"calc!C$11-SQRT((calc!C$12/2)^2+calc!C$5*calc!C$6*EXP(data!A6/calc!C$7/calc!C$2))","v":30.000000000359996},{"$f":"calc!C$7*calc!C$2*LN((calc!C$3-data!B6)/calc!C$5+1)","v":0.51257273429013139},{"$f":"calc!C$7*calc!C$2*LN((calc!C$4-data!B6)/calc!C$6+1)","v":-0.29819193875927669},{"$f":"calc!C$3-calc!C$5*(EXP(data!A6/calc!C$7/calc!C$2)-1)","v":33.999999540824263},{"$f":"calc!C$4-calc!C$6*(EXP(data!A6/calc!C$7/calc!C$2)-1)","v":29.999999983132319}]
[0.15,{"$f":"calc!C$11-SQRT((calc!C$12/2)^2+calc!C$5*calc!C$6*EXP(data!A7/calc!C$7/calc!C$2))","v":30.000000000359996},{"$f":"calc!C$7*calc!C$2*LN((calc!C$3-data!B7)/calc!C$5+1)","v":0.51257273429013139},{"$f":"calc!C$7*calc!C$2*LN((calc!C$4-data!B7)/calc!C$6+1)","v":-0.29819193875927669},{"$f":"calc!C$3-calc!C$5*(EXP(data!A7/calc!C$7/calc!C$2)-1)","v":33.99999676556336},{"$f":"calc!C$4-calc!C$6*(EXP(data!A7/calc!C$7/calc!C$2)-1)","v":29.99999988118396}]
[0.20000000000000004,{"$f":"calc!C$11-SQRT((calc!C$12/2)^2+calc!C$5*calc!C$6*EXP(data!A8/calc!C$7/calc!C$2))","v":30.000000000359996},{"$f":"calc!C$7*calc!C$2*LN((calc!C$3-data!B8)/calc!C$5+1)","v":0.51257273429013139},{"$f":"calc!C$7*calc!C$2*LN((calc!C$4-data!B8)/calc!C$6+1)","v":-0.29819193875927669},{"$f":"calc!C$3-calc!C$5*(EXP(data!A8/calc!C$7/calc!C$2)-1)","v":33.99997756712218},{"$f":"calc!C$4-calc!C$6*(EXP(data!A8/calc!C$7/calc!C$2)-1)","v":29.999999175935102}]
[0.25,{"$f":"calc!C$11-SQRT((calc!C$12/2)^2+calc!C$5*calc!C$6*EXP(data!A9/calc!C$7/calc!C$2))","v":30.000000000359986},{"$f":"calc!C$7*calc!C$2*LN((calc!C$3-data!B9)/calc!C$5+1)","v":0.51257273429013139},{"$f":"calc!C$7*calc!C$2*LN((calc!C$4-data!B9)/calc!C$6+1)","v":-0.26219000205124815},{"$f":"calc!C$3-calc!C$5*(EXP(data!A9/calc!C$7/calc!C$2)-1)","v":33.999844757935413},{"$f":"calc!C$4-calc!C$6*(EXP(data!A9/calc!C$7/calc!C$2)-1)","v":29.99999429723028}]
[0.30000000000000004,{"$f":"calc!C$11-SQRT((calc!C$12/2)^2+calc!C$5*calc!C$6*EXP(data!A10/calc!C$7/calc!C$2))","v":30.000000000359901},{"$f":"calc!C$7*calc!C$2*LN((calc!C$3-data!B10)/calc!C$5+1)","v":0.51257273429013195},{"$f":"calc!C$7*calc!C$2*LN((calc!C$4-data!B10)/calc!C$6+1)","v":-0.21183777889595445},{"$f":"calc!C$3-calc!C$5*(EXP(data!A10/calc!C$7/calc!C$2)-1)","v":33.998926022923399},{"$f":"calc!C$4-calc!C$6*(EXP(data!A10/calc!C$7/calc!C$2)-1)","v":29.999960547780859}]
[0.35,{"$f":"calc!C$11-SQRT((calc!C$12/2)^2+calc!C$5*calc!C$6*EXP(data!A11/calc!C$7/calc!C$2))","v":30.000000000359329},{"$f":"calc!C$7*calc!C$2*LN((calc!C$3-data!B11)/calc!C$5+1)","v":0.51257273429013572},{"$f":"calc!C$7*calc!C$2*LN((calc!C$4-data!B11)/calc!C$6+1)","v":-0.16246563937838643},{"$f":"calc!C$3-calc!C$5*(EXP(data!A11/calc!C$7/calc!C$2)-1)","v":33.992570483499762},{"$f":"calc!C$4-calc!C$6*(EXP(data!A11/calc!C$7/calc!C$2)-1)","v":29.999727078985707}]
[0.4,{"$f":"calc!C$11-SQRT((calc!C$12/2)^2+calc!C$5*calc!C$6*EXP(data!A12/calc!C$7/calc!C$2))","v":30.000000000355371},{"$f":"calc!C$7*calc!C$2*LN((calc!C$3-data!B12)/calc!C$5+1)","v":0.51257273429016126},{"$f":"calc!C$7*calc!C$2*LN((calc!C$4-data!B12)/calc!C$6+1)","v":-0.11255273060894341},{"$f":"calc!C$3-calc!C$5*(EXP(data!A12/calc!C$7/calc!C$2)-1)","v":33.948604725324294},{"$f":"calc!C$4-calc!C$6*(EXP(data!A12/calc!C$7/calc!C$2)-1)","v":29.998112010318035}]
[0.45000000000000007,{"$f":"calc!C$11-SQRT((calc!C$12/2)^2+calc!C$5*calc!C$6*EXP(data!A13/calc!C$7/calc!C$2))","v":30.000000000328001},{"$f":"calc!C$7*calc!C$2*LN((calc!C$3-data!B13)/calc!C$5+1)","v":0.51257273429033812},{"$f":"calc!C$7*calc!C$2*LN((calc!C$4-data!B13)/calc!C$6+1)","v":-6.2572017940573377E-2},{"$f":"calc!C$3-calc!C$5*(EXP(data!A13/calc!C$7/calc!C$2)-1)","v":33.644462501809159},{"$f":"calc!C$4-calc!C$6*(EXP(data!A13/calc!C$7/calc!C$2)-1)","v":29.986939438841969}]
[0.50000000000000011,{"$f":"calc!C$11-SQRT((calc!C$12/2)^2+calc!C$5*calc!C$6*EXP(data!A14/calc!C$7/calc!C$2))","v":30.000000000138641},{"$f":"calc!C$7*calc!C$2*LN((calc!C$3-data!B14)/calc!C$5+1)","v":0.51257273429156203},{"$f":"calc!C$7*calc!C$2*LN((calc!C$4-data!B14)/calc!C$6+1)","v":-1.2572323054836446E-2},{"$f":"calc!C$3-calc!C$5*(EXP(data!A14/calc!C$7/calc!C$2)-1)","v":31.540495779444093},{"$f":"calc!C$4-calc!C$6*(EXP(data!A14/calc!C$7/calc!C$2)-1)","v":29.909650865367333}]
[0.55000000000000004,{"$f":"calc!C$11-SQRT((calc!C$12/2)^2+calc!C$5*calc!C$6*EXP(data!A15/calc!C$7/calc!C$2))","v":29.999999998828727},{"$f":"calc!C$7*calc!C$2*LN((calc!C$3-data!B15)/calc!C$5+1)","v":0.51257273430002792},{"$f":"calc!C$7*calc!C$2*LN((calc!C$4-data!B15)/calc!C$6+1)","v":3.7427286670232422E-2},{"$f":"calc!C$3-calc!C$5*(EXP(data!A15/calc!C$7/calc!C$2)-1)","v":16.985870914609293},{"$f":"calc!C$4-calc!C$6*(EXP(data!A15/calc!C$7/calc!C$2)-1)","v":29.374991176455037}]
[0.60000000000000009,{"$f":"calc!C$11-SQRT((calc!C$12/2)^2+calc!C$5*calc!C$6*EXP(data!A16/calc!C$7/calc!C$2))","v":29.999999989767112},{"$f":"calc!C$7*calc!C$2*LN((calc!C$3-data!B16)/calc!C$5+1)","v":0.5125727343585933},{"$f":"calc!C$7*calc!C$2*LN((calc!C$4-data!B16)/calc!C$6+1)","v":8.742726638910632E-2},{"$f":"calc!C$3-calc!C$5*(EXP(data!A16/calc!C$7/calc!C$2)-1)","v":-83.698756225283674},{"$f":"calc!C$4-calc!C$6*(EXP(data!A16/calc!C$7/calc!C$2)-1)","v":25.676372220295704}]
[0.65,{"$f":"calc!C$11-SQRT((calc!C$12/2)^2+calc!C$5*calc!C$6*EXP(data!A17/calc!C$7/calc!C$2))","v":29.999999927081507},{"$f":"calc!C$7*calc!C$2*LN((calc!C$3-data!B17)/calc!C$5+1)","v":0.51257273476373078},{"$f":"calc!C$7*calc!C$2*LN((calc!C$4-data!B17)/calc!C$6+1)","v":0.13742726541583403},{"$f":"calc!C$3-calc!C$5*(EXP(data!A17/calc!C$7/calc!C$2)-1)","v":-780.2054842545283},{"$f":"calc!C$4-calc!C$6*(EXP(data!A17/calc!C$7/calc!C$2)-1)","v":9.041078248671397E-2}]
[0.70000000000000007,{"$f":"calc!C$11-SQRT((calc!C$12/2)^2+calc!C$5*calc!C$6*EXP(data!A18/calc!C$7/calc!C$2))","v":29.999999493440932},{"$f":"calc!C$7*calc!C$2*LN((calc!C$3-data!B18)/calc!C$5+1)","v":0.51257273756635247},{"$f":"calc!C$7*calc!C$2*LN((calc!C$4-data!B18)/calc!C$6+1)","v":0.18742726252816047},{"$f":"calc!C$3-calc!C$5*(EXP(data!A18/calc!C$7/calc!C$2)-1)","v":-5598.4348005926868},{"$f":"calc!C$4-calc!C$6*(EXP(data!A18/calc!C$7/calc!C$2)-1)","v":-176.90576818503746}]
[0.75000000000000011,{"$f":"calc!C$11-SQRT((calc!C$12/2)^2+calc!C$5*calc!C$6*EXP(data!A19/calc!C$7/calc!C$2))","v":29.999996493645163},{"$f":"calc!C$7*calc!C$2*LN((calc!C$3-data!B19)/calc!C$5+1)","v":0.51257275695404292},{"$f":"calc!C$7*calc!C$2*LN((calc!C$4-data!B19)/calc!C$6+1)","v":0.2374272430562781},{"$f":"calc!C$3-calc!C$5*(EXP(data!A19/calc!C$7/calc!C$2)-1)","v":-38929.532420436044},{"$f":"calc!C$4-calc!C$6*(EXP(data!A19/calc!C$7/calc!C$2)-1)","v":-1401.3134358527527}]
[0.8,{"$f":"calc!C$11-SQRT((calc!C$12/2)^2+calc!C$5*calc!C$6*EXP(data!A20/calc!C$7/calc!C$2))","v":29.999975742060847},{"$f":"calc!C$7*calc!C$2*LN((calc!C$3-data!B20)/calc!C$5+1)","v":0.51257289107120607},{"$f":"calc!C$7*calc!C$2*LN((calc!C$4-data!B20)/calc!C$6+1)","v":0.28742710893146678},{"$f":"calc!C$3-calc!C$5*(EXP(data!A20/calc!C$7/calc!C$2)-1)","v":-269504.29248350562},{"$f":"calc!C$4-calc!C$6*(EXP(data!A20/calc!C$7/calc!C$2)-1)","v":-9871.4066626593903}]
[0.85000000000000009,{"$f":"calc!C$11-SQRT((calc!C$12/2)^2+calc!C$5*calc!C$6*EXP(data!A21/calc!C$7/calc!C$2))","v":29.99983219458143},{"$f":"calc!C$7*calc!C$2*LN((calc!C$3-data!B21)/calc!C$5+1)","v":0.51257381879725616},{"$f":"calc!C$7*calc!C$2*LN((calc!C$4-data!B21)/calc!C$6+1)","v":0.3374261812032458},{"$f":"calc!C$3-calc!C$5*(EXP(data!A21/calc!C$7/calc!C$2)-1)","v":-1864552.8739767147},{"$f":"calc!C$4-calc!C$6*(EXP(data!A21/calc!C$7/calc!C$2)-1)","v":-68465.028023634412}]
[0.9,{"$f":"calc!C$11-SQRT((calc!C$12/2)^2+calc!C$5*calc!C$6*EXP(data!A22/calc!C$7/calc!C$2))","v":29.99883945720407},{"$f":"calc!C$7*calc!C$2*LN((calc!C$3-data!B22)/calc!C$5+1)","v":0.51258023380045059},{"$f":"calc!C$7*calc!C$2*LN((calc!C$4-data!B22)/calc!C$6+1)","v":0.387419766199599},{"$f":"calc!C$3-calc!C$5*(EXP(data!A22/calc!C$7/calc!C$2)-1)","v":-12898631.264115933},{"$f":"calc!C$4-calc!C$6*(EXP(data!A22/calc!C$7/calc!C$2)-1)","v":-473798.5199062996}]
[0.95000000000000007,{"$f":"calc!C$11-SQRT((calc!C$12/2)^2+calc!C$5*calc!C$6*EXP(data!A23/calc!C$7/calc!C$2))","v":29.991985432128789},{"$f":"calc!C$7*calc!C$2*LN((calc!C$3-data!B23)/calc!C$5+1)","v":0.5126244806750706},{"$f":"calc!C$7*calc!C$2*LN((calc!C$4-data!B23)/calc!C$6+1)","v":0.43737551932493973},{"$f":"calc!C$3-calc!C$5*(EXP(data!A23/calc!C$7/calc!C$2)-1)","v":-89229150.178945616},{"$f":"calc!C$4-calc!C$6*(EXP(data!A23/calc!C$7/calc!C$2)-1)","v":-3277776.7657571854}]
[1,{"$f":"calc!C$11-SQRT((calc!C$12/2)^2+calc!C$5*calc!C$6*EXP(data!A24/calc!C$7/calc!C$2))","v":29.945197314162094},{"$f":"calc!C$7*calc!C$2*LN((calc!C$3-data!B24)/calc!C$5+1)","v":0.51292452003372158},{"$f":"calc!C$7*calc!C$2*LN((calc!C$4-data!B24)/calc!C$6+1)","v":0.48707547996627976},{"$f":"calc!C$3-calc!C$5*(EXP(data!A24/calc!C$7/calc!C$2)-1)","v":-617261298.56515503},{"$f":"calc!C$4-calc!C$6*(EXP(data!A24/calc!C$7/calc!C$2)-1)","v":-22674876.094230182}]
[1.05,{"$f":"calc!C$11-SQRT((calc!C$12/2)^2+calc!C$5*calc!C$6*EXP(data!A25/calc!C$7/calc!C$2))","v":29.646871902896859},{"$f":"calc!C$7*calc!C$2*LN((calc!C$3-data!B25)/calc!C$5+1)","v":0.51475982425142885},{"$f":"calc!C$7*calc!C$2*LN((calc!C$4-data!B25)/calc!C$6+1)","v":0.53524017574857141},{"$f":"calc!C$3-calc!C$5*(EXP(data!A25/calc!C$7/calc!C$2)-1)","v":-4270032872.6778498},{"$f":"calc!C$4-calc!C$6*(EXP(data!A25/calc!C$7/calc!C$2)-1)","v":-156858321.67388019}]
[1.1000000000000001,{"$f":"calc!C$11-SQRT((calc!C$12/2)^2+calc!C$5*calc!C$6*EXP(data!A26/calc!C$7/calc!C$2))","v":28.174561359064043},{"$f":"calc!C$7*calc!C$2*LN((calc!C$3-data!B26)/calc!C$5+1)","v":0.52229154368104536},{"$f":"calc!C$7*calc!C$2*LN((calc!C$4-data!B26)/calc!C$6+1)","v":0.57770845631895484},{"$f":"calc!C$3-calc!C$5*(EXP(data!A26/calc!C$7/calc!C$2)-1)","v":-29538835564.75663},{"$f":"calc!C$4-calc!C$6*(EXP(data!A26/calc!C$7/calc!C$2)-1)","v":-1085100053.2196314}]
[1.1499999999999999,{"$f":"calc!C$11-SQRT((calc!C$12/2)^2+calc!C$5*calc!C$6*EXP(data!A27/calc!C$7/calc!C$2))","v":23.193027697388438},{"$f":"calc!C$7*calc!C$2*LN((calc!C$3-data!B27)/calc!C$5+1)","v":0.53826699006950263},{"$f":"calc!C$7*calc!C$2*LN((calc!C$4-data!B27)/calc!C$6+1)","v":0.61173300993049717},{"$f":"calc!C$3-calc!C$5*(EXP(data!A27/calc!C$7/calc!C$2)-1)","v":-204341003325.90555},{"$f":"calc!C$4-calc!C$6*(EXP(data!A27/calc!C$7/calc!C$2)-1)","v":-7506404175.0577545}]
[1.2,{"$f":"calc!C$11-SQRT((calc!C$12/2)^2+calc!C$5*calc!C$6*EXP(data!A28/calc!C$7/calc!C$2))","v":9.3530220133942166},{"$f":"calc!C$7*calc!C$2*LN((calc!C$3-data!B28)/calc!C$5+1)","v":0.55958102419850775},{"$f":"calc!C$7*calc!C$2*LN((calc!C$4-data!B28)/calc!C$6+1)","v":0.64041897580149221},{"$f":"calc!C$3-calc!C$5*(EXP(data!A28/calc!C$7/calc!C$2)-1)","v":-1413571144791.0559},{"$f":"calc!C$4-calc!C$6*(EXP(data!A28/calc!C$7/calc!C$2)-1)","v":-51927103249.287766}]
[1.25,{"$f":"calc!C$11-SQRT((calc!C$12/2)^2+calc!C$5*calc!C$6*EXP(data!A29/calc!C$7/calc!C$2))","v":-27.365995737136117},{"$f":"calc!C$7*calc!C$2*LN((calc!C$3-data!B29)/calc!C$5+1)","v":0.58316328372939241},{"$f":"calc!C$7*calc!C$2*LN((calc!C$4-data!B29)/calc!C$6+1)","v":0.66683671627060759},{"$f":"calc!C$3-calc!C$5*(EXP(data!A29/calc!C$7/calc!C$2)-1)","v":-9778670695649.1719},{"$f":"calc!C$4-calc!C$6*(EXP(data!A29/calc!C$7/calc!C$2)-1)","v":-359216474505.30023}]
[1.3,{"$f":"calc!C$11-SQRT((calc!C$12/2)^2+calc!C$5*calc!C$6*EXP(data!A30/calc!C$7/calc!C$2))","v":-124.06585652127406},{"$f":"calc!C$7*calc!C$2*LN((calc!C$3-data!B30)/calc!C$5+1)","v":0.60762333133356894},{"$f":"calc!C$7*calc!C$2*LN((calc!C$4-data!B30)/calc!C$6+1)","v":0.69237666866643099},{"$f":"calc!C$3-calc!C$5*(EXP(data!A30/calc!C$7/calc!C$2)-1)","v":-67645976592426.141},{"$f":"calc!C$4-calc!C$6*(EXP(data!A30/calc!C$7/calc!C$2)-1)","v":-2484954242142.0054}]
[1.35,{"$f":"calc!C$11-SQRT((calc!C$12/2)^2+calc!C$5*calc!C$6*EXP(data!A31/calc!C$7/calc!C$2))","v":-378.44830512297614},{"$f":"calc!C$7*calc!C$2*LN((calc!C$3-data!B31)/calc!C$5+1)","v":0.63241798751878986},{"$f":"calc!C$7*calc!C$2*LN((calc!C$4-data!B31)/calc!C$6+1)","v":0.71758201248121034},{"$f":"calc!C$3-calc!C$5*(EXP(data!A31/calc!C$7/calc!C$2)-1)","v":-467955031062396.44},{"$f":"calc!C$4-calc!C$6*(EXP(data!A31/calc!C$7/calc!C$2)-1)","v":-17190184814508.262}]
[1.4,{"$f":"calc!C$11-SQRT((calc!C$12/2)^2+calc!C$5*calc!C$6*EXP(data!A32/calc!C$7/calc!C$2))","v":-1047.5310320513561},{"$f":"calc!C$7*calc!C$2*LN((calc!C$3-data!B32)/calc!C$5+1)","v":0.65733991178808127},{"$f":"calc!C$7*calc!C$2*LN((calc!C$4-data!B32)/calc!C$6+1)","v":0.74266008821191865},{"$f":"calc!C$3-calc!C$5*(EXP(data!A32/calc!C$7/calc!C$2)-1)","v":-3237175692146674.5},{"$f":"calc!C$4-calc!C$6*(EXP(data!A32/calc!C$7/calc!C$2)-1)","v":-118916658078828.67}]
[1.45,{"$f":"calc!C$11-SQRT((calc!C$12/2)^2+calc!C$5*calc!C$6*EXP(data!A33/calc!C$7/calc!C$2))","v":-2807.3280202611445},{"$f":"calc!C$7*calc!C$2*LN((calc!C$3-data!B33)/calc!C$5+1)","v":0.68231022677639375},{"$f":"calc!C$7*calc!C$2*LN((calc!C$4-data!B33)/calc!C$6+1)","v":0.76768977322360621},{"$f":"calc!C$3-calc!C$5*(EXP(data!A33/calc!C$7/calc!C$2)-1)","v":-2.2393832240746904E+16},{"$f":"calc!C$4-calc!C$6*(EXP(data!A33/calc!C$7/calc!C$2)-1)","v":-822630572109041.25}]
[1.5,{"$f":"calc!C$11-SQRT((calc!C$12/2)^2+calc!C$5*calc!C$6*EXP(data!A34/calc!C$7/calc!C$2))","v":-7435.8665937204742},{"$f":"calc!C$7*calc!C$2*LN((calc!C$3-data!B34)/calc!C$5+1)","v":0.70729894034948559},{"$f":"calc!C$7*calc!C$2*LN((calc!C$4-data!B34)/calc!C$6+1)","v":0.79270105965051441},{"$f":"calc!C$3-calc!C$5*(EXP(data!A34/calc!C$7/calc!C$2)-1)","v":-1.549139651713391E+17},{"$f":"calc!C$4-calc!C$6*(EXP(data!A34/calc!C$7/calc!C$2)-1)","v":-5690717087926713}]
[1.55,{"$f":"calc!C$11-SQRT((calc!C$12/2)^2+calc!C$5*calc!C$6*EXP(data!A35/calc!C$7/calc!C$2))","v":-19609.63393173696},{"$f":"calc!C$7*calc!C$2*LN((calc!C$3-data!B35)/calc!C$5+1)","v":0.73229464918219944},{"$f":"calc!C$7*calc!C$2*LN((calc!C$4-data!B35)/calc!C$6+1)","v":0.8177053508178006},{"$f":"calc!C$3-calc!C$5*(EXP(data!A35/calc!C$7/calc!C$2)-1)","v":-1.0716493875237786E+18},{"$f":"calc!C$4-calc!C$6*(EXP(data!A35/calc!C$7/calc!C$2)-1)","v":-3.9366712194751016E+16}]
[1.6,{"$f":"calc!C$11-SQRT((calc!C$12/2)^2+calc!C$5*calc!C$6*EXP(data!A36/calc!C$7/calc!C$2))","v":-51628.509570054448},{"$f":"calc!C$7*calc!C$2*LN((calc!C$3-data!B36)/calc!C$5+1)","v":0.75729301765477897},{"$f":"calc!C$7*calc!C$2*LN((calc!C$4-data!B36)/calc!C$6+1)","v":0.84270698234522112},{"$f":"calc!C$3-calc!C$5*(EXP(data!A36/calc!C$7/calc!C$2)-1)","v":-7.4133562362172549E+18},{"$f":"calc!C$4-calc!C$6*(EXP(data!A36/calc!C$7/calc!C$2)-1)","v":-2.7232737194267462E+17}]
[1.65,{"$f":"calc!C$11-SQRT((calc!C$12/2)^2+calc!C$5*calc!C$6*EXP(data!A37/calc!C$7/calc!C$2))","v":-135843.0635734885},{"$f":"calc!C$7*calc!C$2*LN((calc!C$3-data!B37)/calc!C$5+1)","v":0.78229239733832179},{"$f":"calc!C$7*calc!C$2*LN((calc!C$4-data!B37)/calc!C$6+1)","v":0.86770760266167812},{"$f":"calc!C$3-calc!C$5*(EXP(data!A37/calc!C$7/calc!C$2)-1)","v":-5.1283424714169229E+19},{"$f":"calc!C$4-calc!C$6*(EXP(data!A37/calc!C$7/calc!C$2)-1)","v":-1.8838809078674412E+18}]
[1.7,{"$f":"calc!C$11-SQRT((calc!C$12/2)^2+calc!C$5*calc!C$6*EXP(data!A38/calc!C$7/calc!C$2))","v":-357340.25716265646},{"$f":"calc!C$7*calc!C$2*LN((calc!C$3-data!B38)/calc!C$5+1)","v":0.80729216149030514},{"$f":"calc!C$7*calc!C$2*LN((calc!C$4-data!B38)/calc!C$6+1)","v":0.89270783850969482},{"$f":"calc!C$3-calc!C$5*(EXP(data!A38/calc!C$7/calc!C$2)-1)","v":-3.547636949598208E+20},{"$f":"calc!C$4-calc!C$6*(EXP(data!A38/calc!C$7/calc!C$2)-1)","v":-1.3032135733217907E+19}]
[1.75,{"$f":"calc!C$11-SQRT((calc!C$12/2)^2+calc!C$5*calc!C$6*EXP(data!A39/calc!C$7/calc!C$2))","v":-939911.84871496249},{"$f":"calc!C$7*calc!C$2*LN((calc!C$3-data!B39)/calc!C$5+1)","v":0.8322920718194825},{"$f":"calc!C$7*calc!C$2*LN((calc!C$4-data!B39)/calc!C$6+1)","v":0.91770792818051761},{"$f":"calc!C$3-calc!C$5*(EXP(data!A39/calc!C$7/calc!C$2)-1)","v":-2.454151218703072E+21},{"$f":"calc!C$4-calc!C$6*(EXP(data!A39/calc!C$7/calc!C$2)-1)","v":-9.0152493748276118E+19}]
[1.8,{"$f":"calc!C$11-SQRT((calc!C$12/2)^2+calc!C$5*calc!C$6*EXP(data!A40/calc!C$7/calc!C$2))","v":-2472164.4871075349},{"$f":"calc!C$7*calc!C$2*LN((calc!C$3-data!B40)/calc!C$5+1)","v":0.85729203772610096},{"$f":"calc!C$7*calc!C$2*LN((calc!C$4-data!B40)/calc!C$6+1)","v":0.94270796227389897},{"$f":"calc!C$3-calc!C$5*(EXP(data!A40/calc!C$7/calc!C$2)-1)","v":-1.6977098530174615E+22},{"$f":"calc!C$4-calc!C$6*(EXP(data!A40/calc!C$7/calc!C$2)-1)","v":-6.2364851743498581E+20}]
[1.85,{"$f":"calc!C$11-SQRT((calc!C$12/2)^2+calc!C$5*calc!C$6*EXP(data!A41/calc!C$7/calc!C$2))","v":-6502223.9371313872},{"$f":"calc!C$7*calc!C$2*LN((calc!C$3-data!B41)/calc!C$5+1)","v":0.88229202476359403},{"$f":"calc!C$7*calc!C$2*LN((calc!C$4-data!B41)/calc!C$6+1)","v":0.96770797523640606},{"$f":"calc!C$3-calc!C$5*(EXP(data!A41/calc!C$7/calc!C$2)-1)","v":-1.1744258964432344E+23},{"$f":"calc!C$4-calc!C$6*(EXP(data!A41/calc!C$7/calc!C$2)-1)","v":-4.3142175787710651E+21}]
[1.9,{"$f":"calc!C$11-SQRT((calc!C$12/2)^2+calc!C$5*calc!C$6*EXP(data!A42/calc!C$7/calc!C$2))","v":-17101898.405797519},{"$f":"calc!C$7*calc!C$2*LN((calc!C$3-data!B42)/calc!C$5+1)","v":0.90729201983517149},{"$f":"calc!C$7*calc!C$2*LN((calc!C$4-data!B42)/calc!C$6+1)","v":0.99270798016482831},{"$f":"calc!C$3-calc!C$5*(EXP(data!A42/calc!C$7/calc!C$2)-1)","v":-8.1243339890204943E+23},{"$f":"calc!C$4-calc!C$6*(EXP(data!A42/calc!C$7/calc!C$2)-1)","v":-2.984449220456508E+22}]
[1.9500000000000002,{"$f":"calc!C$11-SQRT((calc!C$12/2)^2+calc!C$5*calc!C$6*EXP(data!A43/calc!C$7/calc!C$2))","v":-44980667.995913409},{"$f":"calc!C$7*calc!C$2*LN((calc!C$3-data!B43)/calc!C$5+1)","v":0.93229201796135597},{"$f":"calc!C$7*calc!C$2*LN((calc!C$4-data!B43)/calc!C$6+1)","v":1.0177079820386441},{"$f":"calc!C$3-calc!C$5*(EXP(data!A43/calc!C$7/calc!C$2)-1)","v":-5.6201760336732269E+24},{"$f":"calc!C$4-calc!C$6*(EXP(data!A43/calc!C$7/calc!C$2)-1)","v":-2.0645544613493483E+23}]
[2,{"$f":"calc!C$11-SQRT((calc!C$12/2)^2+calc!C$5*calc!C$6*EXP(data!A44/calc!C$7/calc!C$2))","v":-118306107.95695356},{"$f":"calc!C$7*calc!C$2*LN((calc!C$3-data!B44)/calc!C$5+1)","v":0.95729201724891988},{"$f":"calc!C$7*calc!C$2*LN((calc!C$4-data!B44)/calc!C$6+1)","v":1.0427079827510799},{"$f":"calc!C$3-calc!C$5*(EXP(data!A44/calc!C$7/calc!C$2)-1)","v":-3.8878729865317442E+25},{"$f":"calc!C$4-calc!C$6*(EXP(data!A44/calc!C$7/calc!C$2)-1)","v":-1.4281982399504365E+24}]
[2.0499999999999998,{"$f":"calc!C$11-SQRT((calc!C$12/2)^2+calc!C$5*calc!C$6*EXP(data!A45/calc!C$7/calc!C$2))","v":-311163261.42998189},{"$f":"calc!C$7*calc!C$2*LN((calc!C$3-data!B45)/calc!C$5+1)","v":0.98229201697804769},{"$f":"calc!C$7*calc!C$2*LN((calc!C$4-data!B45)/calc!C$6+1)","v":1.0677079830219522},{"$f":"calc!C$3-calc!C$5*(EXP(data!A45/calc!C$7/calc!C$2)-1)","v":-2.6895165327275837E+26},{"$f":"calc!C$4-calc!C$6*(EXP(data!A45/calc!C$7/calc!C$2)-1)","v":-9.8798566508360212E+24}]
[2.1,{"$f":"calc!C$11-SQRT((calc!C$12/2)^2+calc!C$5*calc!C$6*EXP(data!A46/calc!C$7/calc!C$2))","v":-818407154.7565161},{"$f":"calc!C$7*calc!C$2*LN((calc!C$3-data!B46)/calc!C$5+1)","v":1.0072920168750605},{"$f":"calc!C$7*calc!C$2*LN((calc!C$4-data!B46)/calc!C$6+1)","v":1.0927079831249398},{"$f":"calc!C$3-calc!C$5*(EXP(data!A46/calc!C$7/calc!C$2)-1)","v":-1.860528675929764E+27},{"$f":"calc!C$4-calc!C$6*(EXP(data!A46/calc!C$7/calc!C$2)-1)","v":-6.8345951360685209E+25}]
[2.15,{"$f":"calc!C$11-SQRT((calc!C$12/2)^2+calc!C$5*calc!C$6*EXP(data!A47/calc!C$7/calc!C$2))","v":-2152536393.3333011},{"$f":"calc!C$7*calc!C$2*LN((calc!C$3-data!B47)/calc!C$5+1)","v":1.032292016835904},{"$f":"calc!C$7*calc!C$2*LN((calc!C$4-data!B47)/calc!C$6+1)","v":1.1177079831640959},{"$f":"calc!C$3-calc!C$5*(EXP(data!A47/calc!C$7/calc!C$2)-1)","v":-1.2870591839962962E+28},{"$f":"calc!C$4-calc!C$6*(EXP(data!A47/calc!C$7/calc!C$2)-1)","v":-4.7279725126394555E+26}]
[2.2000000000000002,{"$f":"calc!C$11-SQRT((calc!C$12/2)^2+calc!C$5*calc!C$6*EXP(data!A48/calc!C$7/calc!C$2))","v":-5661500914.4294739},{"$f":"calc!C$7*calc!C$2*LN((calc!C$3-data!B48)/calc!C$5+1)","v":1.0572920168210165},{"$f":"calc!C$7*calc!C$2*LN((calc!C$4-data!B48)/calc!C$6+1)","v":1.1427079831789835},{"$f":"calc!C$3-calc!C$5*(EXP(data!A48/calc!C$7/calc!C$2)-1)","v":-8.9034980462282849E+28},{"$f":"calc!C$4-calc!C$6*(EXP(data!A48/calc!C$7/calc!C$2)-1)","v":-3.2706727516756963E+27}]
[2.25,{"$f":"calc!C$11-SQRT((calc!C$12/2)^2+calc!C$5*calc!C$6*EXP(data!A49/calc!C$7/calc!C$2))","v":-14890615796.467823},{"$f":"calc!C$7*calc!C$2*LN((calc!C$3-data!B49)/calc!C$5+1)","v":1.0822920168153563},{"$f":"calc!C$7*calc!C$2*LN((calc!C$4-data!B49)/calc!C$6+1)","v":1.1677079831846437},{"$f":"calc!C$3-calc!C$5*(EXP(data!A49/calc!C$7/calc!C$2)-1)","v":-6.1591788819726796E+29},{"$f":"calc!C$4-calc!C$6*(EXP(data!A49/calc!C$7/calc!C$2)-1)","v":-2.2625555076634332E+28}]
[2.3000000000000003,{"$f":"calc!C$11-SQRT((calc!C$12/2)^2+calc!C$5*calc!C$6*EXP(data!A50/calc!C$7/calc!C$2))","v":-39164603462.565849},{"$f":"calc!C$7*calc!C$2*LN((calc!C$3-data!B50)/calc!C$5+1)","v":1.1072920168132043},{"$f":"calc!C$7*calc!C$2*LN((calc!C$4-data!B50)/calc!C$6+1)","v":1.1927079831867962},{"$f":"calc!C$3-calc!C$5*(EXP(data!A50/calc!C$7/calc!C$2)-1)","v":-4.2607393524626654E+30},{"$f":"calc!C$4-calc!C$6*(EXP(data!A50/calc!C$7/calc!C$2)-1)","v":-1.5651695580475096E+29}]
[2.35,{"$f":"calc!C$11-SQRT((calc!C$12/2)^2+calc!C$5*calc!C$6*EXP(data!A51/calc!C$7/calc!C$2))","v":-103008914075.7764},{"$f":"calc!C$7*calc!C$2*LN((calc!C$3-data!B51)/calc!C$5+1)","v":1.132292016812386},{"$f":"calc!C$7*calc!C$2*LN((calc!C$4-data!B51)/calc!C$6+1)","v":1.2177079831876143},{"$f":"calc!C$3-calc!C$5*(EXP(data!A51/calc!C$7/calc!C$2)-1)","v":-2.9474545515731265E+31},{"$f":"calc!C$4-calc!C$6*(EXP(data!A51/calc!C$7/calc!C$2)-1)","v":-1.0827384067003322E+30}]
[2.4,{"$f":"calc!C$11-SQRT((calc!C$12/2)^2+calc!C$5*calc!C$6*EXP(data!A52/calc!C$7/calc!C$2))","v":-270929243184.6593},{"$f":"calc!C$7*calc!C$2*LN((calc!C$3-data!B52)/calc!C$5+1)","v":1.1572920168120748},{"$f":"calc!C$7*calc!C$2*LN((calc!C$4-data!B52)/calc!C$6+1)","v":1.2427079831879251},{"$f":"calc!C$3-calc!C$5*(EXP(data!A52/calc!C$7/calc!C$2)-1)","v":-2.0389626341653257E+32},{"$f":"calc!C$4-calc!C$6*(EXP(data!A52/calc!C$7/calc!C$2)-1)","v":-7.4900668193828297E+30}]
[2.4500000000000002,{"$f":"calc!C$11-SQRT((calc!C$12/2)^2+calc!C$5*calc!C$6*EXP(data!A53/calc!C$7/calc!C$2))","v":-712585463718.76196},{"$f":"calc!C$7*calc!C$2*LN((calc!C$3-data!B53)/calc!C$5+1)","v":1.1822920168119566},{"$f":"calc!C$7*calc!C$2*LN((calc!C$4-data!B53)/calc!C$6+1)","v":1.2677079831880436},{"$f":"calc!C$3-calc!C$5*(EXP(data!A53/calc!C$7/calc!C$2)-1)","v":-1.4104945643024681E+33},{"$f":"calc!C$4-calc!C$6*(EXP(data!A53/calc!C$7/calc!C$2)-1)","v":-5.1814086035600866E+31}]
[2.5,{"$f":"calc!C$11-SQRT((calc!C$12/2)^2+calc!C$5*calc!C$6*EXP(data!A54/calc!C$7/calc!C$2))","v":-1874209063265.0913},{"$f":"calc!C$7*calc!C$2*LN((calc!C$3-data!B54)/calc!C$5+1)","v":1.2072920168119115},{"$f":"calc!C$7*calc!C$2*LN((calc!C$4-data!B54)/calc!C$6+1)","v":1.2927079831880885},{"$f":"calc!C$3-calc!C$5*(EXP(data!A54/calc!C$7/calc!C$2)-1)","v":-9.7573878137360021E+33},{"$f":"calc!C$4-calc!C$6*(EXP(data!A54/calc!C$7/calc!C$2)-1)","v":-3.5843465438213884E+32}]
[2.5500000000000003,{"$f":"calc!C$11-SQRT((calc!C$12/2)^2+calc!C$5*calc!C$6*EXP(data!A55/calc!C$7/calc!C$2))","v":-4929457295456.1289},{"$f":"calc!C$7*calc!C$2*LN((calc!C$3-data!B55)/calc!C$5+1)","v":1.2322920168118945},{"$f":"calc!C$7*calc!C$2*LN((calc!C$4-data!B55)/calc!C$6+1)","v":1.3177079831881056},{"$f":"calc!C$3-calc!C$5*(EXP(data!A55/calc!C$7/calc!C$2)-1)","v":-6.7498747855669836E+34},{"$f":"calc!C$4-calc!C$6*(EXP(data!A55/calc!C$7/calc!C$2)-1)","v":-2.4795458395960348E+33}]
[2.6,{"$f":"calc!C$11-SQRT((calc!C$12/2)^2+calc!C$5*calc!C$6*EXP(data!A56/calc!C$7/calc!C$2))","v":-12965228748405.182},{"$f":"calc!C$7*calc!C$2*LN((calc!C$3-data!B56)/calc!C$5+1)","v":1.257292016811888},{"$f":"calc!C$7*calc!C$2*LN((calc!C$4-data!B56)/calc!C$6+1)","v":1.3427079831881119},{"$f":"calc!C$3-calc!C$5*(EXP(data!A56/calc!C$7/calc!C$2)-1)","v":-4.669365458313944E+35},{"$f":"calc!C$4-calc!C$6*(EXP(data!A56/calc!C$7/calc!C$2)-1)","v":-1.7152771071357346E+34}]
[2.65,{"$f":"calc!C$11-SQRT((calc!C$12/2)^2+calc!C$5*calc!C$6*EXP(data!A57/calc!C$7/calc!C$2))","v":-34100540165547.523},{"$f":"calc!C$7*calc!C$2*LN((calc!C$3-data!B57)/calc!C$5+1)","v":1.2822920168118854},{"$f":"calc!C$7*calc!C$2*LN((calc!C$4-data!B57)/calc!C$6+1)","v":1.3677079831881145},{"$f":"calc!C$3-calc!C$5*(EXP(data!A57/calc!C$7/calc!C$2)-1)","v":-3.2301301099563956E+36},{"$f":"calc!C$4-calc!C$6*(EXP(data!A57/calc!C$7/calc!C$2)-1)","v":-1.186578407739084E+35}]
[2.7,{"$f":"calc!C$11-SQRT((calc!C$12/2)^2+calc!C$5*calc!C$6*EXP(data!A58/calc!C$7/calc!C$2))","v":-89689650845849.734},{"$f":"calc!C$7*calc!C$2*LN((calc!C$3-data!B58)/calc!C$5+1)","v":1.3072920168118847},{"$f":"calc!C$7*calc!C$2*LN((calc!C$4-data!B58)/calc!C$6+1)","v":1.3927079831881155},{"$f":"calc!C$3-calc!C$5*(EXP(data!A58/calc!C$7/calc!C$2)-1)","v":-2.2345092969044926E+37},{"$f":"calc!C$4-calc!C$6*(EXP(data!A58/calc!C$7/calc!C$2)-1)","v":-8.208401498832829E+35}]
[2.75,{"$f":"calc!C$11-SQRT((calc!C$12/2)^2+calc!C$5*calc!C$6*EXP(data!A59/calc!C$7/calc!C$2))","v":-235897537980195.19},{"$f":"calc!C$7*calc!C$2*LN((calc!C$3-data!B59)/calc!C$5+1)","v":1.3322920168118841},{"$f":"calc!C$7*calc!C$2*LN((calc!C$4-data!B59)/calc!C$6+1)","v":1.4177079831881159},{"$f":"calc!C$3-calc!C$5*(EXP(data!A59/calc!C$7/calc!C$2)-1)","v":-1.5457680118092426E+38},{"$f":"calc!C$4-calc!C$6*(EXP(data!A59/calc!C$7/calc!C$2)-1)","v":-5.6783314719523199E+36}]
[2.8000000000000003,{"$f":"calc!C$11-SQRT((calc!C$12/2)^2+calc!C$5*calc!C$6*EXP(data!A60/calc!C$7/calc!C$2))","v":-620446705949970},{"$f":"calc!C$7*calc!C$2*LN((calc!C$3-data!B60)/calc!C$5+1)","v":1.3572920168118841},{"$f":"calc!C$7*calc!C$2*LN((calc!C$4-data!B60)/calc!C$6+1)","v":1.4427079831881162},{"$f":"calc!C$3-calc!C$5*(EXP(data!A60/calc!C$7/calc!C$2)-1)","v":-1.0693169859005782E+39},{"$f":"calc!C$4-calc!C$6*(EXP(data!A60/calc!C$7/calc!C$2)-1)","v":-3.9281032135123283E+37}]
[2.85,{"$f":"calc!C$11-SQRT((calc!C$12/2)^2+calc!C$5*calc!C$6*EXP(data!A61/calc!C$7/calc!C$2))","v":-1631869998390846},{"$f":"calc!C$7*calc!C$2*LN((calc!C$3-data!B61)/calc!C$5+1)","v":1.382292016811884},{"$f":"calc!C$7*calc!C$2*LN((calc!C$4-data!B61)/calc!C$6+1)","v":1.4677079831881159},{"$f":"calc!C$3-calc!C$5*(EXP(data!A61/calc!C$7/calc!C$2)-1)","v":-7.397221365689567E+39},{"$f":"calc!C$4-calc!C$6*(EXP(data!A61/calc!C$7/calc!C$2)-1)","v":-2.7173466241308614E+38}]
[2.9,{"$f":"calc!C$11-SQRT((calc!C$12/2)^2+calc!C$5*calc!C$6*EXP(data!A62/calc!C$7/calc!C$2))","v":-4292068385745962},{"$f":"calc!C$7*calc!C$2*LN((calc!C$3-data!B62)/calc!C$5+1)","v":1.4072920168118839},{"$f":"calc!C$7*calc!C$2*LN((calc!C$4-data!B62)/calc!C$6+1)","v":1.4927079831881158},{"$f":"calc!C$3-calc!C$5*(EXP(data!A62/calc!C$7/calc!C$2)-1)","v":-5.1171808410889512E+40},{"$f":"calc!C$4-calc!C$6*(EXP(data!A62/calc!C$7/calc!C$2)-1)","v":-1.8797807171347169E+39}]
[2.95,{"$f":"calc!C$11-SQRT((calc!C$12/2)^2+calc!C$5*calc!C$6*EXP(data!A63/calc!C$7/calc!C$2))","v":-1.1288798155542714E+16},{"$f":"calc!C$7*calc!C$2*LN((calc!C$3-data!B63)/calc!C$5+1)","v":1.4322920168118842},{"$f":"calc!C$7*calc!C$2*LN((calc!C$4-data!B63)/calc!C$6+1)","v":1.5177079831881162},{"$f":"calc!C$3-calc!C$5*(EXP(data!A63/calc!C$7/calc!C$2)-1)","v":-3.539915661016258E+41},{"$f":"calc!C$4-calc!C$6*(EXP(data!A63/calc!C$7/calc!C$2)-1)","v":-1.3003771815978091E+40}]
[3,{"$f":"calc!C$11-SQRT((calc!C$12/2)^2+calc!C$5*calc!C$6*EXP(data!A64/calc!C$7/calc!C$2))","v":-2.9691270581755608E+16},{"$f":"calc!C$7*calc!C$2*LN((calc!C$3-data!B64)/calc!C$5+1)","v":1.4572920168118841},{"$f":"calc!C$7*calc!C$2*LN((calc!C$4-data!B64)/calc!C$6+1)","v":1.5427079831881161},{"$f":"calc!C$3-calc!C$5*(EXP(data!A64/calc!C$7/calc!C$2)-1)","v":-2.4488098576639667E+42},{"$f":"calc!C$4-calc!C$6*(EXP(data!A64/calc!C$7/calc!C$2)-1)","v":-8.9956280485615105E+40}]