{"text_format":"1","workbook":"xlsx","n_sheets":5,"sheets":["constants","info","main","analysis","data"],"not_rendered":{"charts":2,"images":0,"macros":1,"external_links":0,"defined_names":19,"comments":0,"pivot_tables":0},"unopened":[],"bounds":{"document_bytes":16777216,"sheet_cells":100000,"rows_first":2000,"rows_last":500,"rows_between":2000,"halvings":0,"cell_chars":16384,"cell_head_chars":4096},"cells_cut":0,"cells_raw":0,"read":"whole","date_system":"1904"}

{"sheet":"constants","index":0,"n_rows":3,"n_cols":2,"rows_kept":3,"cut":false,"hidden":false,"merged":[]}
[]
["kB_J/K",1.3806503000000001E-23]
["e",1.6021764620000001E-19]

{"sheet":"info","index":1,"n_rows":6,"n_cols":2,"rows_kept":6,"cut":false,"hidden":false,"merged":[[3,1,3,3],[7,1,7,6],[10,1,10,3]]}
[]
[null,"Solar Cell I-V Calc"]
[]
[null,"Written by Phil Ahrenkiel, 2011"]
[]
[null,"Computes solar cell I-V characteristics."]

{"sheet":"main","index":2,"n_rows":17,"n_cols":7,"rows_kept":17,"cut":false,"hidden":false,"merged":[[0,0,1,3]]}
["Adjust the parameters in the box below."]
[]
[]
["Adjustable Parameters:"]
["Iphoto",10,"A"]
["I0",9.9999999999999998E-17,"A"]
["n",1]
["Rs",0.02,"ohm"]
["Rp",0.2,"ohm"]
["T",300,"K"]
[null,null,null,null,null,null,"a"]
["Output:"]
[null,null,null,"Max. Power Point"]
["Voc",{"$f":"Voc(B6,B7,B10,B5,B9)","v":0.99597962346395752},"V","Vm",{"$f":"Vmax(B6,B7,B10,B5,B8,B9)","v":0.77993794150596418},"V"]
["Isc",{"$f":"I(0,B6,B7,B10,B5,B8,B9)","v":9.0909090909087489},"A","Im",{"$f":"I(E14,B6,B7,B10,B5,B8,B9)","v":5.4713343727808423},"A"]
[null,null,null,"Pm",{"$f":"E14*E15","v":4.2673012679975155},"W"]
[null,null,null,"FF",{"$f":"E14*E15/cell_Voc/B15","v":0.4712979346376468}]

{"sheet":"analysis","index":3,"n_rows":0,"n_cols":0,"rows_kept":0,"cut":false,"hidden":false,"merged":[]}

{"sheet":"data","index":4,"n_rows":72,"n_cols":4,"rows_kept":72,"cut":false,"hidden":false,"merged":[]}
["V","I","Vc","Ic"]
[-1,{"$f":"I(A2,main!B$6,main!B$7,main!B$10,main!B$5,main!B$8,main!B$9)","v":13.636363636363612},{"$f":"Vcell(A2,main!B$6,main!B$7,main!B$10,main!B$5,main!B$8,main!B$9)","v":-0.72727272727272252},{"$f":"Ic(C2,main!B$6,main!B$7,main!B$10,main!B$5)","v":10}]
[-0.95,{"$f":"I(A3,main!B$6,main!B$7,main!B$10,main!B$5,main!B$8,main!B$9)","v":13.409090909090567},{"$f":"Vcell(A3,main!B$6,main!B$7,main!B$10,main!B$5,main!B$8,main!B$9)","v":-0.68181818181811338},{"$f":"Ic(C3,main!B$6,main!B$7,main!B$10,main!B$5)","v":10}]
[-0.9,{"$f":"I(A4,main!B$6,main!B$7,main!B$10,main!B$5,main!B$8,main!B$9)","v":13.181818181818123},{"$f":"Vcell(A4,main!B$6,main!B$7,main!B$10,main!B$5,main!B$8,main!B$9)","v":-0.63636363636362481},{"$f":"Ic(C4,main!B$6,main!B$7,main!B$10,main!B$5)","v":10}]
[-0.85,{"$f":"I(A5,main!B$6,main!B$7,main!B$10,main!B$5,main!B$8,main!B$9)","v":12.954545454545189},{"$f":"Vcell(A5,main!B$6,main!B$7,main!B$10,main!B$5,main!B$8,main!B$9)","v":-0.59090909090903776},{"$f":"Ic(C5,main!B$6,main!B$7,main!B$10,main!B$5)","v":10}]
[-0.8,{"$f":"I(A6,main!B$6,main!B$7,main!B$10,main!B$5,main!B$8,main!B$9)","v":12.727272727272533},{"$f":"Vcell(A6,main!B$6,main!B$7,main!B$10,main!B$5,main!B$8,main!B$9)","v":-0.54545454545450678},{"$f":"Ic(C6,main!B$6,main!B$7,main!B$10,main!B$5)","v":10}]
[-0.75,{"$f":"I(A7,main!B$6,main!B$7,main!B$10,main!B$5,main!B$8,main!B$9)","v":12.499999999999712},{"$f":"Vcell(A7,main!B$6,main!B$7,main!B$10,main!B$5,main!B$8,main!B$9)","v":-0.49999999999994238},{"$f":"Ic(C7,main!B$6,main!B$7,main!B$10,main!B$5)","v":10}]
[-0.7,{"$f":"I(A8,main!B$6,main!B$7,main!B$10,main!B$5,main!B$8,main!B$9)","v":12.272727272727151},{"$f":"Vcell(A8,main!B$6,main!B$7,main!B$10,main!B$5,main!B$8,main!B$9)","v":-0.45454545454543033},{"$f":"Ic(C8,main!B$6,main!B$7,main!B$10,main!B$5)","v":10}]
[-0.65,{"$f":"I(A9,main!B$6,main!B$7,main!B$10,main!B$5,main!B$8,main!B$9)","v":12.045454545454692},{"$f":"Vcell(A9,main!B$6,main!B$7,main!B$10,main!B$5,main!B$8,main!B$9)","v":-0.40909090909093848},{"$f":"Ic(C9,main!B$6,main!B$7,main!B$10,main!B$5)","v":10}]
[-0.6,{"$f":"I(A10,main!B$6,main!B$7,main!B$10,main!B$5,main!B$8,main!B$9)","v":11.818181818181564},{"$f":"Vcell(A10,main!B$6,main!B$7,main!B$10,main!B$5,main!B$8,main!B$9)","v":-0.36363636363631285},{"$f":"Ic(C10,main!B$6,main!B$7,main!B$10,main!B$5)","v":10}]
[-0.55000000000000004,{"$f":"I(A11,main!B$6,main!B$7,main!B$10,main!B$5,main!B$8,main!B$9)","v":11.5909090909093},{"$f":"Vcell(A11,main!B$6,main!B$7,main!B$10,main!B$5,main!B$8,main!B$9)","v":-0.31818181818185987},{"$f":"Ic(C11,main!B$6,main!B$7,main!B$10,main!B$5)","v":10}]
[-0.5,{"$f":"I(A12,main!B$6,main!B$7,main!B$10,main!B$5,main!B$8,main!B$9)","v":11.36363636363668},{"$f":"Vcell(A12,main!B$6,main!B$7,main!B$10,main!B$5,main!B$8,main!B$9)","v":-0.27272727272733582},{"$f":"Ic(C12,main!B$6,main!B$7,main!B$10,main!B$5)","v":10}]
[-0.45,{"$f":"I(A13,main!B$6,main!B$7,main!B$10,main!B$5,main!B$8,main!B$9)","v":11.136363636363866},{"$f":"Vcell(A13,main!B$6,main!B$7,main!B$10,main!B$5,main!B$8,main!B$9)","v":-0.22727272727277315},{"$f":"Ic(C13,main!B$6,main!B$7,main!B$10,main!B$5)","v":10}]
[-0.4,{"$f":"I(A14,main!B$6,main!B$7,main!B$10,main!B$5,main!B$8,main!B$9)","v":10.909090909091054},{"$f":"Vcell(A14,main!B$6,main!B$7,main!B$10,main!B$5,main!B$8,main!B$9)","v":-0.18181818181821063},{"$f":"Ic(C14,main!B$6,main!B$7,main!B$10,main!B$5)","v":10}]
[-0.35,{"$f":"I(A15,main!B$6,main!B$7,main!B$10,main!B$5,main!B$8,main!B$9)","v":10.681818181818256},{"$f":"Vcell(A15,main!B$6,main!B$7,main!B$10,main!B$5,main!B$8,main!B$9)","v":-0.13636363636365137},{"$f":"Ic(C15,main!B$6,main!B$7,main!B$10,main!B$5)","v":10}]
[-0.3,{"$f":"I(A16,main!B$6,main!B$7,main!B$10,main!B$5,main!B$8,main!B$9)","v":10.454545454545835},{"$f":"Vcell(A16,main!B$6,main!B$7,main!B$10,main!B$5,main!B$8,main!B$9)","v":-9.0909090909167087E-2},{"$f":"Ic(C16,main!B$6,main!B$7,main!B$10,main!B$5)","v":10}]
[-0.25,{"$f":"I(A17,main!B$6,main!B$7,main!B$10,main!B$5,main!B$8,main!B$9)","v":10.227272727272657},{"$f":"Vcell(A17,main!B$6,main!B$7,main!B$10,main!B$5,main!B$8,main!B$9)","v":-4.5454545454531363E-2},{"$f":"Ic(C17,main!B$6,main!B$7,main!B$10,main!B$5)","v":10}]
[-0.2,{"$f":"I(A18,main!B$6,main!B$7,main!B$10,main!B$5,main!B$8,main!B$9)","v":9.9999999999995683},{"$f":"Vcell(A18,main!B$6,main!B$7,main!B$10,main!B$5,main!B$8,main!B$9)","v":8.6487264166300114E-14},{"$f":"Ic(C18,main!B$6,main!B$7,main!B$10,main!B$5)","v":10}]
[-0.15,{"$f":"I(A19,main!B$6,main!B$7,main!B$10,main!B$5,main!B$8,main!B$9)","v":9.7727272727272307},{"$f":"Vcell(A19,main!B$6,main!B$7,main!B$10,main!B$5,main!B$8,main!B$9)","v":4.5454545454553963E-2},{"$f":"Ic(C19,main!B$6,main!B$7,main!B$10,main!B$5)","v":10}]
[-0.1,{"$f":"I(A20,main!B$6,main!B$7,main!B$10,main!B$5,main!B$8,main!B$9)","v":9.5454545454545539},{"$f":"Vcell(A20,main!B$6,main!B$7,main!B$10,main!B$5,main!B$8,main!B$9)","v":9.0909090909088566E-2},{"$f":"Ic(C20,main!B$6,main!B$7,main!B$10,main!B$5)","v":9.9999999999999964}]
[-4.9999999999999933E-2,{"$f":"I(A21,main!B$6,main!B$7,main!B$10,main!B$5,main!B$8,main!B$9)","v":9.3181818181820297},{"$f":"Vcell(A21,main!B$6,main!B$7,main!B$10,main!B$5,main!B$8,main!B$9)","v":0.13636363636359014},{"$f":"Ic(C21,main!B$6,main!B$7,main!B$10,main!B$5)","v":9.9999999999999805}]
[0,{"$f":"I(A22,main!B$6,main!B$7,main!B$10,main!B$5,main!B$8,main!B$9)","v":9.0909090909087489},{"$f":"Vcell(A22,main!B$6,main!B$7,main!B$10,main!B$5,main!B$8,main!B$9)","v":0.18181818181822798},{"$f":"Ic(C22,main!B$6,main!B$7,main!B$10,main!B$5)","v":9.9999999999998881}]
[0.05,{"$f":"I(A23,main!B$6,main!B$7,main!B$10,main!B$5,main!B$8,main!B$9)","v":8.8636363636354538},{"$f":"Vcell(A23,main!B$6,main!B$7,main!B$10,main!B$5,main!B$8,main!B$9)","v":0.22727272727277981},{"$f":"Ic(C23,main!B$6,main!B$7,main!B$10,main!B$5)","v":9.9999999999993534}]
[0.1,{"$f":"I(A24,main!B$6,main!B$7,main!B$10,main!B$5,main!B$8,main!B$9)","v":8.6363636363601497},{"$f":"Vcell(A24,main!B$6,main!B$7,main!B$10,main!B$5,main!B$8,main!B$9)","v":0.27272727272722147},{"$f":"Ic(C24,main!B$6,main!B$7,main!B$10,main!B$5)","v":9.9999999999962572}]
[0.15,{"$f":"I(A25,main!B$6,main!B$7,main!B$10,main!B$5,main!B$8,main!B$9)","v":8.4090909090713435},{"$f":"Vcell(A25,main!B$6,main!B$7,main!B$10,main!B$5,main!B$8,main!B$9)","v":0.31818181818140273},{"$f":"Ic(C25,main!B$6,main!B$7,main!B$10,main!B$5)","v":9.9999999999783569}]
[0.2,{"$f":"I(A26,main!B$6,main!B$7,main!B$10,main!B$5,main!B$8,main!B$9)","v":8.1818181817043829},{"$f":"Vcell(A26,main!B$6,main!B$7,main!B$10,main!B$5,main!B$8,main!B$9)","v":0.36363636363408952},{"$f":"Ic(C26,main!B$6,main!B$7,main!B$10,main!B$5)","v":9.9999999998748308}]
[0.25,{"$f":"I(A27,main!B$6,main!B$7,main!B$10,main!B$5,main!B$8,main!B$9)","v":7.9545454538873557},{"$f":"Vcell(A27,main!B$6,main!B$7,main!B$10,main!B$5,main!B$8,main!B$9)","v":0.40909090907774592},{"$f":"Ic(C27,main!B$6,main!B$7,main!B$10,main!B$5)","v":9.9999999992760848}]
[0.3,{"$f":"I(A28,main!B$6,main!B$7,main!B$10,main!B$5,main!B$8,main!B$9)","v":7.7272727234667791},{"$f":"Vcell(A28,main!B$6,main!B$7,main!B$10,main!B$5,main!B$8,main!B$9)","v":0.45454545446929667},{"$f":"Ic(C28,main!B$6,main!B$7,main!B$10,main!B$5)","v":9.9999999958132619}]
[0.35,{"$f":"I(A29,main!B$6,main!B$7,main!B$10,main!B$5,main!B$8,main!B$9)","v":7.4999999779874198},{"$f":"Vcell(A29,main!B$6,main!B$7,main!B$10,main!B$5,main!B$8,main!B$9)","v":0.49999999955975172},{"$f":"Ic(C29,main!B$6,main!B$7,main!B$10,main!B$5)","v":9.9999999757861779}]
[0.4,{"$f":"I(A30,main!B$6,main!B$7,main!B$10,main!B$5,main!B$8,main!B$9)","v":7.2727271454188376},{"$f":"Vcell(A30,main!B$6,main!B$7,main!B$10,main!B$5,main!B$8,main!B$9)","v":0.54545454290831041},{"$f":"Ic(C30,main!B$6,main!B$7,main!B$10,main!B$5)","v":9.9999998599603899}]
[0.45,{"$f":"I(A31,main!B$6,main!B$7,main!B$10,main!B$5,main!B$8,main!B$9)","v":7.0454538091700467},{"$f":"Vcell(A31,main!B$6,main!B$7,main!B$10,main!B$5,main!B$8,main!B$9)","v":0.59090907618342925},{"$f":"Ic(C31,main!B$6,main!B$7,main!B$10,main!B$5)","v":9.999999190087193}]
[0.5,{"$f":"I(A32,main!B$6,main!B$7,main!B$10,main!B$5,main!B$8,main!B$9)","v":6.8181775599238721},{"$f":"Vcell(A32,main!B$6,main!B$7,main!B$10,main!B$5,main!B$8,main!B$9)","v":0.63636355119845101},{"$f":"Ic(C32,main!B$6,main!B$7,main!B$10,main!B$5)","v":9.9999953159161272}]
[0.55000000000000004,{"$f":"I(A33,main!B$6,main!B$7,main!B$10,main!B$5,main!B$8,main!B$9)","v":6.590884463840073},{"$f":"Vcell(A33,main!B$6,main!B$7,main!B$10,main!B$5,main!B$8,main!B$9)","v":0.68181768927683561},{"$f":"Ic(C33,main!B$6,main!B$7,main!B$10,main!B$5)","v":9.9999729102242512}]
[0.6,{"$f":"I(A34,main!B$6,main!B$7,main!B$10,main!B$5,main!B$8,main!B$9)","v":6.3634939469750025},{"$f":"Vcell(A34,main!B$6,main!B$7,main!B$10,main!B$5,main!B$8,main!B$9)","v":0.72726987893950179},{"$f":"Ic(C34,main!B$6,main!B$7,main!B$10,main!B$5)","v":9.999843341672511}]
[0.65,{"$f":"I(A35,main!B$6,main!B$7,main!B$10,main!B$5,main!B$8,main!B$9)","v":6.1355404085030942},{"$f":"Vcell(A35,main!B$6,main!B$7,main!B$10,main!B$5,main!B$8,main!B$9)","v":0.77271080817007043},{"$f":"Ic(C35,main!B$6,main!B$7,main!B$10,main!B$5)","v":9.9990944493534464}]
[0.7,{"$f":"I(A36,main!B$6,main!B$7,main!B$10,main!B$5,main!B$8,main!B$9)","v":5.9043442083526347},{"$f":"Vcell(A36,main!B$6,main!B$7,main!B$10,main!B$5,main!B$8,main!B$9)","v":0.8180868841670208},{"$f":"Ic(C36,main!B$6,main!B$7,main!B$10,main!B$5)","v":9.9947786291877385}]
[0.75,{"$f":"I(A37,main!B$6,main!B$7,main!B$10,main!B$5,main!B$8,main!B$9)","v":5.6548332356807967},{"$f":"Vcell(A37,main!B$6,main!B$7,main!B$10,main!B$5,main!B$8,main!B$9)","v":0.86309666471355184},{"$f":"Ic(C37,main!B$6,main!B$7,main!B$10,main!B$5)","v":9.9703165592485554}]
[0.8,{"$f":"I(A38,main!B$6,main!B$7,main!B$10,main!B$5,main!B$8,main!B$9)","v":5.3118221702195614},{"$f":"Vcell(A38,main!B$6,main!B$7,main!B$10,main!B$5,main!B$8,main!B$9)","v":0.90623644340438214},{"$f":"Ic(C38,main!B$6,main!B$7,main!B$10,main!B$5)","v":9.8430043872414714}]
[0.85,{"$f":"I(A39,main!B$6,main!B$7,main!B$10,main!B$5,main!B$8,main!B$9)","v":4.6411553084600605},{"$f":"Vcell(A39,main!B$6,main!B$7,main!B$10,main!B$5,main!B$8,main!B$9)","v":0.94282310616926424},{"$f":"Ic(C39,main!B$6,main!B$7,main!B$10,main!B$5)","v":9.3552708393063817}]
[0.9,{"$f":"I(A40,main!B$6,main!B$7,main!B$10,main!B$5,main!B$8,main!B$9)","v":3.4229416793497913},{"$f":"Vcell(A40,main!B$6,main!B$7,main!B$10,main!B$5,main!B$8,main!B$9)","v":0.96845883358704965},{"$f":"Ic(C40,main!B$6,main!B$7,main!B$10,main!B$5)","v":8.2652358472850391}]
[0.95,{"$f":"I(A41,main!B$6,main!B$7,main!B$10,main!B$5,main!B$8,main!B$9)","v":1.7608217641234147},{"$f":"Vcell(A41,main!B$6,main!B$7,main!B$10,main!B$5,main!B$8,main!B$9)","v":0.98521643528267844},{"$f":"Ic(C41,main!B$6,main!B$7,main!B$10,main!B$5)","v":6.6869039405368067}]
[1,{"$f":"I(A42,main!B$6,main!B$7,main!B$10,main!B$5,main!B$8,main!B$9)","v":-0.16110942102248788},{"$f":"Vcell(A42,main!B$6,main!B$7,main!B$10,main!B$5,main!B$8,main!B$9)","v":0.9967778115795034},{"$f":"Ic(C42,main!B$6,main!B$7,main!B$10,main!B$5)","v":4.8227796368750289}]
[1.05,{"$f":"I(A43,main!B$6,main!B$7,main!B$10,main!B$5,main!B$8,main!B$9)","v":-2.2328908844371989},{"$f":"Vcell(A43,main!B$6,main!B$7,main!B$10,main!B$5,main!B$8,main!B$9)","v":1.0053421823112889},{"$f":"Ic(C43,main!B$6,main!B$7,main!B$10,main!B$5)","v":2.7938200271192453}]
[1.1000000000000001,{"$f":"I(A44,main!B$6,main!B$7,main!B$10,main!B$5,main!B$8,main!B$9)","v":-4.3974059684160354},{"$f":"Vcell(A44,main!B$6,main!B$7,main!B$10,main!B$5,main!B$8,main!B$9)","v":1.0120518806313135},{"$f":"Ic(C44,main!B$6,main!B$7,main!B$10,main!B$5)","v":0.66285343474053149}]
[1.1499999999999999,{"$f":"I(A45,main!B$6,main!B$7,main!B$10,main!B$5,main!B$8,main!B$9)","v":-6.6235593867666012},{"$f":"Vcell(A45,main!B$6,main!B$7,main!B$10,main!B$5,main!B$8,main!B$9)","v":1.017528812265369},{"$f":"Ic(C45,main!B$6,main!B$7,main!B$10,main!B$5)","v":-1.5359153254397564}]
[1.2,{"$f":"I(A46,main!B$6,main!B$7,main!B$10,main!B$5,main!B$8,main!B$9)","v":-8.8931387499135273},{"$f":"Vcell(A46,main!B$6,main!B$7,main!B$10,main!B$5,main!B$8,main!B$9)","v":1.0221372250009386},{"$f":"Ic(C46,main!B$6,main!B$7,main!B$10,main!B$5)","v":-3.7824526249088346}]
[1.25,{"$f":"I(A47,main!B$6,main!B$7,main!B$10,main!B$5,main!B$8,main!B$9)","v":-11.194746943161586},{"$f":"Vcell(A47,main!B$6,main!B$7,main!B$10,main!B$5,main!B$8,main!B$9)","v":1.0261050611374354},{"$f":"Ic(C47,main!B$6,main!B$7,main!B$10,main!B$5)","v":-6.0642216374744091}]
[1.3,{"$f":"I(A48,main!B$6,main!B$7,main!B$10,main!B$5,main!B$8,main!B$9)","v":-13.520849082371642},{"$f":"Vcell(A48,main!B$6,main!B$7,main!B$10,main!B$5,main!B$8,main!B$9)","v":1.029583018351649},{"$f":"Ic(C48,main!B$6,main!B$7,main!B$10,main!B$5)","v":-8.3729339906133973}]
[1.35,{"$f":"I(A49,main!B$6,main!B$7,main!B$10,main!B$5,main!B$8,main!B$9)","v":-15.86623492028477},{"$f":"Vcell(A49,main!B$6,main!B$7,main!B$10,main!B$5,main!B$8,main!B$9)","v":1.0326753015944292},{"$f":"Ic(C49,main!B$6,main!B$7,main!B$10,main!B$5)","v":-10.702858412312624}]
[1.4,{"$f":"I(A50,main!B$6,main!B$7,main!B$10,main!B$5,main!B$8,main!B$9)","v":-18.227166280223837},{"$f":"Vcell(A50,main!B$6,main!B$7,main!B$10,main!B$5,main!B$8,main!B$9)","v":1.0354566743954874},{"$f":"Ic(C50,main!B$6,main!B$7,main!B$10,main!B$5)","v":-13.049882908246399}]
[1.45,{"$f":"I(A51,main!B$6,main!B$7,main!B$10,main!B$5,main!B$8,main!B$9)","v":-20.600877744601632},{"$f":"Vcell(A51,main!B$6,main!B$7,main!B$10,main!B$5,main!B$8,main!B$9)","v":1.0379824451068287},{"$f":"Ic(C51,main!B$6,main!B$7,main!B$10,main!B$5)","v":-15.41096551906749}]
[1.5,{"$f":"I(A52,main!B$6,main!B$7,main!B$10,main!B$5,main!B$8,main!B$9)","v":-22.985270215453507},{"$f":"Vcell(A52,main!B$6,main!B$7,main!B$10,main!B$5,main!B$8,main!B$9)","v":1.0402945956920961},{"$f":"Ic(C52,main!B$6,main!B$7,main!B$10,main!B$5)","v":-17.783797236993028}]
[1.55,{"$f":"I(A53,main!B$6,main!B$7,main!B$10,main!B$5,main!B$8,main!B$9)","v":-25.378715164042152},{"$f":"Vcell(A53,main!B$6,main!B$7,main!B$10,main!B$5,main!B$8,main!B$9)","v":1.0424256967201633},{"$f":"Ic(C53,main!B$6,main!B$7,main!B$10,main!B$5)","v":-20.166586680441338}]
[1.6,{"$f":"I(A54,main!B$6,main!B$7,main!B$10,main!B$5,main!B$8,main!B$9)","v":-27.779925212377602},{"$f":"Vcell(A54,main!B$6,main!B$7,main!B$10,main!B$5,main!B$8,main!B$9)","v":1.0444014957508923},{"$f":"Ic(C54,main!B$6,main!B$7,main!B$10,main!B$5)","v":-22.557917733623142}]
[1.65,{"$f":"I(A55,main!B$6,main!B$7,main!B$10,main!B$5,main!B$8,main!B$9)","v":-30.187865981946125},{"$f":"Vcell(A55,main!B$6,main!B$7,main!B$10,main!B$5,main!B$8,main!B$9)","v":1.0462426803585043},{"$f":"Ic(C55,main!B$6,main!B$7,main!B$10,main!B$5)","v":-24.956652580153605}]
[1.7,{"$f":"I(A56,main!B$6,main!B$7,main!B$10,main!B$5,main!B$8,main!B$9)","v":-32.601694471977027},{"$f":"Vcell(A56,main!B$6,main!B$7,main!B$10,main!B$5,main!B$8,main!B$9)","v":1.0479661105614853},{"$f":"Ic(C56,main!B$6,main!B$7,main!B$10,main!B$5)","v":-27.361863919169604}]
[1.75,{"$f":"I(A57,main!B$6,main!B$7,main!B$10,main!B$5,main!B$8,main!B$9)","v":-35.020714989381212},{"$f":"Vcell(A57,main!B$6,main!B$7,main!B$10,main!B$5,main!B$8,main!B$9)","v":1.0495857002125786},{"$f":"Ic(C57,main!B$6,main!B$7,main!B$10,main!B$5)","v":-29.772786488318317}]
[1.8,{"$f":"I(A58,main!B$6,main!B$7,main!B$10,main!B$5,main!B$8,main!B$9)","v":-37.444346991152543},{"$f":"Vcell(A58,main!B$6,main!B$7,main!B$10,main!B$5,main!B$8,main!B$9)","v":1.0511130601752579},{"$f":"Ic(C58,main!B$6,main!B$7,main!B$10,main!B$5)","v":-32.188781690276251}]
[1.85,{"$f":"I(A59,main!B$6,main!B$7,main!B$10,main!B$5,main!B$8,main!B$9)","v":-39.872101192001089},{"$f":"Vcell(A59,main!B$6,main!B$7,main!B$10,main!B$5,main!B$8,main!B$9)","v":1.0525579761623909},{"$f":"Ic(C59,main!B$6,main!B$7,main!B$10,main!B$5)","v":-34.609311311189138}]
[1.9,{"$f":"I(A60,main!B$6,main!B$7,main!B$10,main!B$5,main!B$8,main!B$9)","v":-42.303561525810494},{"$f":"Vcell(A60,main!B$6,main!B$7,main!B$10,main!B$5,main!B$8,main!B$9)","v":1.0539287694858765},{"$f":"Ic(C60,main!B$6,main!B$7,main!B$10,main!B$5)","v":-37.033917678381108}]
[1.95,{"$f":"I(A61,main!B$6,main!B$7,main!B$10,main!B$5,main!B$8,main!B$9)","v":-44.738371331198614},{"$f":"Vcell(A61,main!B$6,main!B$7,main!B$10,main!B$5,main!B$8,main!B$9)","v":1.0552325733735772},{"$f":"Ic(C61,main!B$6,main!B$7,main!B$10,main!B$5)","v":-39.462208464330729}]
[2,{"$f":"I(A62,main!B$6,main!B$7,main!B$10,main!B$5,main!B$8,main!B$9)","v":-47.176222630292251},{"$f":"Vcell(A62,main!B$6,main!B$7,main!B$10,main!B$5,main!B$8,main!B$9)","v":1.0564755473964587},{"$f":"Ic(C62,main!B$6,main!B$7,main!B$10,main!B$5)","v":-41.893844893309961}]
[2.0499999999999998,{"$f":"I(A63,main!B$6,main!B$7,main!B$10,main!B$5,main!B$8,main!B$9)","v":-49.616847707473205},{"$f":"Vcell(A63,main!B$6,main!B$7,main!B$10,main!B$5,main!B$8,main!B$9)","v":1.0576630458542227},{"$f":"Ic(C63,main!B$6,main!B$7,main!B$10,main!B$5)","v":-44.328532478202092}]
[2.1,{"$f":"I(A64,main!B$6,main!B$7,main!B$10,main!B$5,main!B$8,main!B$9)","v":-52.060012427767184},{"$f":"Vcell(A64,main!B$6,main!B$7,main!B$10,main!B$5,main!B$8,main!B$9)","v":1.0587997514472494},{"$f":"Ic(C64,main!B$6,main!B$7,main!B$10,main!B$5)","v":-46.766013670530938}]
[2.15,{"$f":"I(A65,main!B$6,main!B$7,main!B$10,main!B$5,main!B$8,main!B$9)","v":-54.505510877663042},{"$f":"Vcell(A65,main!B$6,main!B$7,main!B$10,main!B$5,main!B$8,main!B$9)","v":1.0598897824457838},{"$f":"Ic(C65,main!B$6,main!B$7,main!B$10,main!B$5)","v":-49.206061965434124}]
[2.2000000000000002,{"$f":"I(A66,main!B$6,main!B$7,main!B$10,main!B$5,main!B$8,main!B$9)","v":-56.953161030179892},{"$f":"Vcell(A66,main!B$6,main!B$7,main!B$10,main!B$5,main!B$8,main!B$9)","v":1.0609367793987641},{"$f":"Ic(C66,main!B$6,main!B$7,main!B$10,main!B$5)","v":-51.64847713318607}]
[2.25,{"$f":"I(A67,main!B$6,main!B$7,main!B$10,main!B$5,main!B$8,main!B$9)","v":-59.402801206166117},{"$f":"Vcell(A67,main!B$6,main!B$7,main!B$10,main!B$5,main!B$8,main!B$9)","v":1.0619439758789997},{"$f":"Ic(C67,main!B$6,main!B$7,main!B$10,main!B$5)","v":-54.09308132677112}]
[2.2999999999999998,{"$f":"I(A68,main!B$6,main!B$7,main!B$10,main!B$5,main!B$8,main!B$9)","v":-61.854287167299056},{"$f":"Vcell(A68,main!B$6,main!B$7,main!B$10,main!B$5,main!B$8,main!B$9)","v":1.0629142566556087},{"$f":"Ic(C68,main!B$6,main!B$7,main!B$10,main!B$5)","v":-56.539715884021014}]
[2.35,{"$f":"I(A69,main!B$6,main!B$7,main!B$10,main!B$5,main!B$8,main!B$9)","v":-64.307489706387599},{"$f":"Vcell(A69,main!B$6,main!B$7,main!B$10,main!B$5,main!B$8,main!B$9)","v":1.0638502058720387},{"$f":"Ic(C69,main!B$6,main!B$7,main!B$10,main!B$5)","v":-58.988238677027404}]
[2.4,{"$f":"I(A70,main!B$6,main!B$7,main!B$10,main!B$5,main!B$8,main!B$9)","v":-66.762292639191031},{"$f":"Vcell(A70,main!B$6,main!B$7,main!B$10,main!B$5,main!B$8,main!B$9)","v":1.0647541472161137},{"$f":"Ic(C70,main!B$6,main!B$7,main!B$10,main!B$5)","v":-61.438521903110463}]
[2.4500000000000002,{"$f":"I(A71,main!B$6,main!B$7,main!B$10,main!B$5,main!B$8,main!B$9)","v":-69.218591118718123},{"$f":"Vcell(A71,main!B$6,main!B$7,main!B$10,main!B$5,main!B$8,main!B$9)","v":1.0656281776222887},{"$f":"Ic(C71,main!B$6,main!B$7,main!B$10,main!B$5)","v":-63.890450230606682}]
[2.5,{"$f":"I(A72,main!B$6,main!B$7,main!B$10,main!B$5,main!B$8,main!B$9)","v":-71.676290214498735},{"$f":"Vcell(A72,main!B$6,main!B$7,main!B$10,main!B$5,main!B$8,main!B$9)","v":1.066474195713869},{"$f":"Ic(C72,main!B$6,main!B$7,main!B$10,main!B$5)","v":-66.343919235929391}]