{"text_format":"1","workbook":"xlsx","n_sheets":3,"sheets":["prob1","Sheet1","const"],"not_rendered":{"charts":1,"images":0,"macros":1,"external_links":0,"defined_names":0,"comments":0,"pivot_tables":0},"unopened":[],"bounds":{"document_bytes":16777216,"sheet_cells":100000,"rows_first":2000,"rows_last":500,"rows_between":2000,"halvings":0,"cell_chars":16384,"cell_head_chars":4096},"cells_cut":0,"cells_raw":0,"read":"whole","date_system":"1904"}

{"sheet":"prob1","index":0,"n_rows":17,"n_cols":4,"rows_kept":17,"cut":false,"hidden":false,"merged":[]}
[]
[null,"kT",2.5899999999999999E-2,"eV"]
[]
[null,"Jph_IV",20,"mA/cm^2"]
[null,"Jph_CI",20,"mA/cm^2"]
[null,"J0_IV",1E-10,"mA/cm^2"]
[null,"J0_CI",1E-10,"mA/cm^2"]
[null,"n",1]
[]
[null,"Jph_CV",80,"mA/cm^2"]
[null,"J0_CV",1E-10,"mA/cm^2"]
[null,"n2",2]
[]
[null,"JnetA",{"$f":"C4+C6","v":20.000000000099998},"mA/cm^2"]
[null,"JnetB",{"$f":"C5+C7","v":20.000000000099998},"mA/cm^2"]
[null,"<Jnet>",{"$f":"(C14+C15)/2","v":20.000000000099998},"mA/cm^2"]
[null,"dJnet",{"$f":"C14-C15","v":0},"mA/cm^2"]

{"sheet":"Sheet1","index":1,"n_rows":64,"n_cols":8,"rows_kept":64,"cut":false,"hidden":false,"merged":[]}
["V","J1","J_IV","V_IV","J_CI","V_CI","J2","Jnet"]
[-0.1,{"$f":"prob1!C$16-SQRT((prob1!C$17/2)^2+prob1!C$6*prob1!C$7*EXP(Sheet1!A2/prob1!C$8/prob1!C$2))","v":20.000000000085489},{"$f":"prob1!C$8*prob1!C$2*LN((prob1!C$4-Sheet1!B2)/prob1!C$6+1)","v":-4.9993726394297354E-2},{"$f":"prob1!C$8*prob1!C$2*LN((prob1!C$5-Sheet1!B2)/prob1!C$7+1)","v":-4.9993726394297354E-2},{"$f":"prob1!C$4-prob1!C$6*(EXP(Sheet1!A2/prob1!C$8/prob1!C$2)-1)","v":20.000000000097895},{"$f":"prob1!C$5-prob1!C$7*(EXP(Sheet1!A2/prob1!C$8/prob1!C$2)-1)","v":20.000000000097895},{"$f":"prob1!C$10-prob1!C$11*(EXP(Sheet1!A2/prob1!C$12/prob1!C$2)-1)","v":80.000000000085493},{"$f":"B2+G2","v":100.00000000017099}]
[-0.05,{"$f":"prob1!C$16-SQRT((prob1!C$17/2)^2+prob1!C$6*prob1!C$7*EXP(Sheet1!A3/prob1!C$8/prob1!C$2))","v":20.00000000006191},{"$f":"prob1!C$8*prob1!C$2*LN((prob1!C$4-Sheet1!B3)/prob1!C$6+1)","v":-2.4998876942268863E-2},{"$f":"prob1!C$8*prob1!C$2*LN((prob1!C$5-Sheet1!B3)/prob1!C$7+1)","v":-2.4998876942268863E-2},{"$f":"prob1!C$4-prob1!C$6*(EXP(Sheet1!A3/prob1!C$8/prob1!C$2)-1)","v":20.000000000085493},{"$f":"prob1!C$5-prob1!C$7*(EXP(Sheet1!A3/prob1!C$8/prob1!C$2)-1)","v":20.000000000085493},{"$f":"prob1!C$10-prob1!C$11*(EXP(Sheet1!A3/prob1!C$12/prob1!C$2)-1)","v":80.000000000061917},{"$f":"B3+G3","v":100.00000000012383}]
[0,{"$f":"prob1!C$16-SQRT((prob1!C$17/2)^2+prob1!C$6*prob1!C$7*EXP(Sheet1!A4/prob1!C$8/prob1!C$2))","v":20},{"$f":"prob1!C$8*prob1!C$2*LN((prob1!C$4-Sheet1!B4)/prob1!C$6+1)","v":0},{"$f":"prob1!C$8*prob1!C$2*LN((prob1!C$5-Sheet1!B4)/prob1!C$7+1)","v":0},{"$f":"prob1!C$4-prob1!C$6*(EXP(Sheet1!A4/prob1!C$8/prob1!C$2)-1)","v":20},{"$f":"prob1!C$5-prob1!C$7*(EXP(Sheet1!A4/prob1!C$8/prob1!C$2)-1)","v":20},{"$f":"prob1!C$10-prob1!C$11*(EXP(Sheet1!A4/prob1!C$12/prob1!C$2)-1)","v":80},100]
[5.0000000000000017E-2,{"$f":"prob1!C$16-SQRT((prob1!C$17/2)^2+prob1!C$6*prob1!C$7*EXP(Sheet1!A5/prob1!C$8/prob1!C$2))","v":19.999999999837453},{"$f":"prob1!C$8*prob1!C$2*LN((prob1!C$4-Sheet1!B5)/prob1!C$6+1)","v":2.5000262602972952E-2},{"$f":"prob1!C$8*prob1!C$2*LN((prob1!C$5-Sheet1!B5)/prob1!C$7+1)","v":2.5000262602972952E-2},{"$f":"prob1!C$4-prob1!C$6*(EXP(Sheet1!A5/prob1!C$8/prob1!C$2)-1)","v":19.999999999410704},{"$f":"prob1!C$5-prob1!C$7*(EXP(Sheet1!A5/prob1!C$8/prob1!C$2)-1)","v":19.999999999410704},{"$f":"prob1!C$10-prob1!C$11*(EXP(Sheet1!A5/prob1!C$12/prob1!C$2)-1)","v":79.999999999837456},99.999999999674912]
[0.1,{"$f":"prob1!C$16-SQRT((prob1!C$17/2)^2+prob1!C$6*prob1!C$7*EXP(Sheet1!A6/prob1!C$8/prob1!C$2))","v":19.999999999410701},{"$f":"prob1!C$8*prob1!C$2*LN((prob1!C$4-Sheet1!B6)/prob1!C$6+1)","v":5.0000088658897851E-2},{"$f":"prob1!C$8*prob1!C$2*LN((prob1!C$5-Sheet1!B6)/prob1!C$7+1)","v":5.0000088658897851E-2},{"$f":"prob1!C$4-prob1!C$6*(EXP(Sheet1!A6/prob1!C$8/prob1!C$2)-1)","v":19.999999995348698},{"$f":"prob1!C$5-prob1!C$7*(EXP(Sheet1!A6/prob1!C$8/prob1!C$2)-1)","v":19.999999995348698},{"$f":"prob1!C$10-prob1!C$11*(EXP(Sheet1!A6/prob1!C$12/prob1!C$2)-1)","v":79.999999999410704},99.999999998821409]
[0.15,{"$f":"prob1!C$16-SQRT((prob1!C$17/2)^2+prob1!C$6*prob1!C$7*EXP(Sheet1!A7/prob1!C$8/prob1!C$2))","v":19.999999998290285},{"$f":"prob1!C$8*prob1!C$2*LN((prob1!C$4-Sheet1!B7)/prob1!C$6+1)","v":7.5000041221609956E-2},{"$f":"prob1!C$8*prob1!C$2*LN((prob1!C$5-Sheet1!B7)/prob1!C$7+1)","v":7.5000041221609956E-2},{"$f":"prob1!C$4-prob1!C$6*(EXP(Sheet1!A7/prob1!C$8/prob1!C$2)-1)","v":19.999999967349421},{"$f":"prob1!C$5-prob1!C$7*(EXP(Sheet1!A7/prob1!C$8/prob1!C$2)-1)","v":19.999999967349421},{"$f":"prob1!C$10-prob1!C$11*(EXP(Sheet1!A7/prob1!C$12/prob1!C$2)-1)","v":79.999999998290292},99.999999996580584]
[0.20000000000000004,{"$f":"prob1!C$16-SQRT((prob1!C$17/2)^2+prob1!C$6*prob1!C$7*EXP(Sheet1!A8/prob1!C$8/prob1!C$2))","v":19.999999995348695},{"$f":"prob1!C$8*prob1!C$2*LN((prob1!C$4-Sheet1!B8)/prob1!C$6+1)","v":0.10000001487069028},{"$f":"prob1!C$8*prob1!C$2*LN((prob1!C$5-Sheet1!B8)/prob1!C$7+1)","v":0.10000001487069028},{"$f":"prob1!C$4-prob1!C$6*(EXP(Sheet1!A8/prob1!C$8/prob1!C$2)-1)","v":19.999999774351256},{"$f":"prob1!C$5-prob1!C$7*(EXP(Sheet1!A8/prob1!C$8/prob1!C$2)-1)","v":19.999999774351256},{"$f":"prob1!C$10-prob1!C$11*(EXP(Sheet1!A8/prob1!C$12/prob1!C$2)-1)","v":79.999999995348702},99.999999990697404]
[0.25,{"$f":"prob1!C$16-SQRT((prob1!C$17/2)^2+prob1!C$6*prob1!C$7*EXP(Sheet1!A9/prob1!C$8/prob1!C$2))","v":19.999999987625706},{"$f":"prob1!C$8*prob1!C$2*LN((prob1!C$4-Sheet1!B9)/prob1!C$6+1)","v":0.12500000727027019},{"$f":"prob1!C$8*prob1!C$2*LN((prob1!C$5-Sheet1!B9)/prob1!C$7+1)","v":0.12500000727027019},{"$f":"prob1!C$4-prob1!C$6*(EXP(Sheet1!A9/prob1!C$8/prob1!C$2)-1)","v":19.999998444020868},{"$f":"prob1!C$5-prob1!C$7*(EXP(Sheet1!A9/prob1!C$8/prob1!C$2)-1)","v":19.999998444020868},{"$f":"prob1!C$10-prob1!C$11*(EXP(Sheet1!A9/prob1!C$12/prob1!C$2)-1)","v":79.999999987625714},99.999999975251427]
[0.30000000000000004,{"$f":"prob1!C$16-SQRT((prob1!C$17/2)^2+prob1!C$6*prob1!C$7*EXP(Sheet1!A10/prob1!C$8/prob1!C$2))","v":19.999999967349417},{"$f":"prob1!C$8*prob1!C$2*LN((prob1!C$4-Sheet1!B10)/prob1!C$6+1)","v":0.15000000143039124},{"$f":"prob1!C$8*prob1!C$2*LN((prob1!C$5-Sheet1!B10)/prob1!C$7+1)","v":0.15000000143039124},{"$f":"prob1!C$4-prob1!C$6*(EXP(Sheet1!A10/prob1!C$8/prob1!C$2)-1)","v":19.999989274094524},{"$f":"prob1!C$5-prob1!C$7*(EXP(Sheet1!A10/prob1!C$8/prob1!C$2)-1)","v":19.999989274094524},{"$f":"prob1!C$10-prob1!C$11*(EXP(Sheet1!A10/prob1!C$12/prob1!C$2)-1)","v":79.999999967349424},99.999999934698849]
[0.35,{"$f":"prob1!C$16-SQRT((prob1!C$17/2)^2+prob1!C$6*prob1!C$7*EXP(Sheet1!A11/prob1!C$8/prob1!C$2))","v":19.999999914115101},{"$f":"prob1!C$8*prob1!C$2*LN((prob1!C$4-Sheet1!B11)/prob1!C$6+1)","v":0.175000000680854},{"$f":"prob1!C$8*prob1!C$2*LN((prob1!C$5-Sheet1!B11)/prob1!C$7+1)","v":0.175000000680854},{"$f":"prob1!C$4-prob1!C$6*(EXP(Sheet1!A11/prob1!C$8/prob1!C$2)-1)","v":19.999926066074995},{"$f":"prob1!C$5-prob1!C$7*(EXP(Sheet1!A11/prob1!C$8/prob1!C$2)-1)","v":19.999926066074995},{"$f":"prob1!C$10-prob1!C$11*(EXP(Sheet1!A11/prob1!C$12/prob1!C$2)-1)","v":79.999999914115108},99.999999828230216]
[0.4,{"$f":"prob1!C$16-SQRT((prob1!C$17/2)^2+prob1!C$6*prob1!C$7*EXP(Sheet1!A12/prob1!C$8/prob1!C$2))","v":19.999999774351256},{"$f":"prob1!C$8*prob1!C$2*LN((prob1!C$4-Sheet1!B12)/prob1!C$6+1)","v":0.20000000000482673},{"$f":"prob1!C$8*prob1!C$2*LN((prob1!C$5-Sheet1!B12)/prob1!C$7+1)","v":0.20000000000482673},{"$f":"prob1!C$4-prob1!C$6*(EXP(Sheet1!A12/prob1!C$8/prob1!C$2)-1)","v":19.999490375145406},{"$f":"prob1!C$5-prob1!C$7*(EXP(Sheet1!A12/prob1!C$8/prob1!C$2)-1)","v":19.999490375145406},{"$f":"prob1!C$10-prob1!C$11*(EXP(Sheet1!A12/prob1!C$12/prob1!C$2)-1)","v":79.999999774351252},99.999999548702505]
[0.45000000000000007,{"$f":"prob1!C$16-SQRT((prob1!C$17/2)^2+prob1!C$6*prob1!C$7*EXP(Sheet1!A13/prob1!C$8/prob1!C$2))","v":19.999999407408755},{"$f":"prob1!C$8*prob1!C$2*LN((prob1!C$4-Sheet1!B13)/prob1!C$6+1)","v":0.22500000009640808},{"$f":"prob1!C$8*prob1!C$2*LN((prob1!C$5-Sheet1!B13)/prob1!C$7+1)","v":0.22500000009640808},{"$f":"prob1!C$4-prob1!C$6*(EXP(Sheet1!A13/prob1!C$8/prob1!C$2)-1)","v":19.996487171002325},{"$f":"prob1!C$5-prob1!C$7*(EXP(Sheet1!A13/prob1!C$8/prob1!C$2)-1)","v":19.996487171002325},{"$f":"prob1!C$10-prob1!C$11*(EXP(Sheet1!A13/prob1!C$12/prob1!C$2)-1)","v":79.999999407408751},99.999998814817502]
[0.50000000000000011,{"$f":"prob1!C$16-SQRT((prob1!C$17/2)^2+prob1!C$6*prob1!C$7*EXP(Sheet1!A14/prob1!C$8/prob1!C$2))","v":19.999998444020868},{"$f":"prob1!C$8*prob1!C$2*LN((prob1!C$4-Sheet1!B14)/prob1!C$6+1)","v":0.25000000000267375},{"$f":"prob1!C$8*prob1!C$2*LN((prob1!C$5-Sheet1!B14)/prob1!C$7+1)","v":0.25000000000267375},{"$f":"prob1!C$4-prob1!C$6*(EXP(Sheet1!A14/prob1!C$8/prob1!C$2)-1)","v":19.975786177448125},{"$f":"prob1!C$5-prob1!C$7*(EXP(Sheet1!A14/prob1!C$8/prob1!C$2)-1)","v":19.975786177448125},{"$f":"prob1!C$10-prob1!C$11*(EXP(Sheet1!A14/prob1!C$12/prob1!C$2)-1)","v":79.999998444020875},99.99999688804175]
[0.55000000000000004,{"$f":"prob1!C$16-SQRT((prob1!C$17/2)^2+prob1!C$6*prob1!C$7*EXP(Sheet1!A15/prob1!C$8/prob1!C$2))","v":19.999995914697536},{"$f":"prob1!C$8*prob1!C$2*LN((prob1!C$4-Sheet1!B15)/prob1!C$6+1)","v":0.27500000000392305},{"$f":"prob1!C$8*prob1!C$2*LN((prob1!C$5-Sheet1!B15)/prob1!C$7+1)","v":0.27500000000392305},{"$f":"prob1!C$4-prob1!C$6*(EXP(Sheet1!A15/prob1!C$8/prob1!C$2)-1)","v":19.833094867195975},{"$f":"prob1!C$5-prob1!C$7*(EXP(Sheet1!A15/prob1!C$8/prob1!C$2)-1)","v":19.833094867195975},{"$f":"prob1!C$10-prob1!C$11*(EXP(Sheet1!A15/prob1!C$12/prob1!C$2)-1)","v":79.999995914697536},99.999991829395071]
[0.60000000000000009,{"$f":"prob1!C$16-SQRT((prob1!C$17/2)^2+prob1!C$6*prob1!C$7*EXP(Sheet1!A16/prob1!C$8/prob1!C$2))","v":19.999989274094524},{"$f":"prob1!C$8*prob1!C$2*LN((prob1!C$4-Sheet1!B16)/prob1!C$6+1)","v":0.3000000000010673},{"$f":"prob1!C$8*prob1!C$2*LN((prob1!C$5-Sheet1!B16)/prob1!C$7+1)","v":0.3000000000010673},{"$f":"prob1!C$4-prob1!C$6*(EXP(Sheet1!A16/prob1!C$8/prob1!C$2)-1)","v":18.849528065527039},{"$f":"prob1!C$5-prob1!C$7*(EXP(Sheet1!A16/prob1!C$8/prob1!C$2)-1)","v":18.849528065527039},{"$f":"prob1!C$10-prob1!C$11*(EXP(Sheet1!A16/prob1!C$12/prob1!C$2)-1)","v":79.999989274094531},99.999978548189063]
[0.65,{"$f":"prob1!C$16-SQRT((prob1!C$17/2)^2+prob1!C$6*prob1!C$7*EXP(Sheet1!A17/prob1!C$8/prob1!C$2))","v":19.999971839546788},{"$f":"prob1!C$8*prob1!C$2*LN((prob1!C$4-Sheet1!B17)/prob1!C$6+1)","v":0.32500000000315582},{"$f":"prob1!C$8*prob1!C$2*LN((prob1!C$5-Sheet1!B17)/prob1!C$7+1)","v":0.32500000000315582},{"$f":"prob1!C$4-prob1!C$6*(EXP(Sheet1!A17/prob1!C$8/prob1!C$2)-1)","v":12.069832429992118},{"$f":"prob1!C$5-prob1!C$7*(EXP(Sheet1!A17/prob1!C$8/prob1!C$2)-1)","v":12.069832429992118},{"$f":"prob1!C$10-prob1!C$11*(EXP(Sheet1!A17/prob1!C$12/prob1!C$2)-1)","v":79.999971839546788},99.999943679093576]
[0.70000000000000007,{"$f":"prob1!C$16-SQRT((prob1!C$17/2)^2+prob1!C$6*prob1!C$7*EXP(Sheet1!A18/prob1!C$8/prob1!C$2))","v":19.999926066074995},{"$f":"prob1!C$8*prob1!C$2*LN((prob1!C$4-Sheet1!B18)/prob1!C$6+1)","v":0.35000000000036396},{"$f":"prob1!C$8*prob1!C$2*LN((prob1!C$5-Sheet1!B18)/prob1!C$7+1)","v":0.35000000000036396},{"$f":"prob1!C$4-prob1!C$6*(EXP(Sheet1!A18/prob1!C$8/prob1!C$2)-1)","v":-34.662400533237673},{"$f":"prob1!C$5-prob1!C$7*(EXP(Sheet1!A18/prob1!C$8/prob1!C$2)-1)","v":-34.662400533237673},{"$f":"prob1!C$10-prob1!C$11*(EXP(Sheet1!A18/prob1!C$12/prob1!C$2)-1)","v":79.999926066074991},99.999852132149982]
[0.75000000000000011,{"$f":"prob1!C$16-SQRT((prob1!C$17/2)^2+prob1!C$6*prob1!C$7*EXP(Sheet1!A19/prob1!C$8/prob1!C$2))","v":19.999805890275066},{"$f":"prob1!C$8*prob1!C$2*LN((prob1!C$4-Sheet1!B19)/prob1!C$6+1)","v":0.37500000000004174},{"$f":"prob1!C$8*prob1!C$2*LN((prob1!C$5-Sheet1!B19)/prob1!C$7+1)","v":0.37500000000004174},{"$f":"prob1!C$4-prob1!C$6*(EXP(Sheet1!A19/prob1!C$8/prob1!C$2)-1)","v":-356.78624135625716},{"$f":"prob1!C$5-prob1!C$7*(EXP(Sheet1!A19/prob1!C$8/prob1!C$2)-1)","v":-356.78624135625716},{"$f":"prob1!C$10-prob1!C$11*(EXP(Sheet1!A19/prob1!C$12/prob1!C$2)-1)","v":79.99980589027507},99.99961178055014]
[0.8,{"$f":"prob1!C$16-SQRT((prob1!C$17/2)^2+prob1!C$6*prob1!C$7*EXP(Sheet1!A20/prob1!C$8/prob1!C$2))","v":19.999490375145406},{"$f":"prob1!C$8*prob1!C$2*LN((prob1!C$4-Sheet1!B20)/prob1!C$6+1)","v":0.40000000000008146},{"$f":"prob1!C$8*prob1!C$2*LN((prob1!C$5-Sheet1!B20)/prob1!C$7+1)","v":0.40000000000008146},{"$f":"prob1!C$4-prob1!C$6*(EXP(Sheet1!A20/prob1!C$8/prob1!C$2)-1)","v":-2577.1759434323003},{"$f":"prob1!C$5-prob1!C$7*(EXP(Sheet1!A20/prob1!C$8/prob1!C$2)-1)","v":-2577.1759434323003},{"$f":"prob1!C$10-prob1!C$11*(EXP(Sheet1!A20/prob1!C$12/prob1!C$2)-1)","v":79.999490375145413},99.998980750290826]
[0.85000000000000009,{"$f":"prob1!C$16-SQRT((prob1!C$17/2)^2+prob1!C$6*prob1!C$7*EXP(Sheet1!A21/prob1!C$8/prob1!C$2))","v":19.998662007062126},{"$f":"prob1!C$8*prob1!C$2*LN((prob1!C$4-Sheet1!B21)/prob1!C$6+1)","v":0.42500000000003796},{"$f":"prob1!C$8*prob1!C$2*LN((prob1!C$5-Sheet1!B21)/prob1!C$7+1)","v":0.42500000000003796},{"$f":"prob1!C$4-prob1!C$6*(EXP(Sheet1!A21/prob1!C$8/prob1!C$2)-1)","v":-17882.253693930317},{"$f":"prob1!C$5-prob1!C$7*(EXP(Sheet1!A21/prob1!C$8/prob1!C$2)-1)","v":-17882.253693930317},{"$f":"prob1!C$10-prob1!C$11*(EXP(Sheet1!A21/prob1!C$12/prob1!C$2)-1)","v":79.998662007062123},99.997324014124246]
[0.9,{"$f":"prob1!C$16-SQRT((prob1!C$17/2)^2+prob1!C$6*prob1!C$7*EXP(Sheet1!A22/prob1!C$8/prob1!C$2))","v":19.996487171002325},{"$f":"prob1!C$8*prob1!C$2*LN((prob1!C$4-Sheet1!B22)/prob1!C$6+1)","v":0.4500000000000009},{"$f":"prob1!C$8*prob1!C$2*LN((prob1!C$5-Sheet1!B22)/prob1!C$7+1)","v":0.4500000000000009},{"$f":"prob1!C$4-prob1!C$6*(EXP(Sheet1!A22/prob1!C$8/prob1!C$2)-1)","v":-123379.6826946909},{"$f":"prob1!C$5-prob1!C$7*(EXP(Sheet1!A22/prob1!C$8/prob1!C$2)-1)","v":-123379.6826946909},{"$f":"prob1!C$10-prob1!C$11*(EXP(Sheet1!A22/prob1!C$12/prob1!C$2)-1)","v":79.996487171002329},99.992974342004658]
[0.95000000000000007,{"$f":"prob1!C$16-SQRT((prob1!C$17/2)^2+prob1!C$6*prob1!C$7*EXP(Sheet1!A23/prob1!C$8/prob1!C$2))","v":19.990777255347083},{"$f":"prob1!C$8*prob1!C$2*LN((prob1!C$4-Sheet1!B23)/prob1!C$6+1)","v":0.47500000000000114},{"$f":"prob1!C$8*prob1!C$2*LN((prob1!C$5-Sheet1!B23)/prob1!C$7+1)","v":0.47500000000000114},{"$f":"prob1!C$4-prob1!C$6*(EXP(Sheet1!A23/prob1!C$8/prob1!C$2)-1)","v":-850570.20777441328},{"$f":"prob1!C$5-prob1!C$7*(EXP(Sheet1!A23/prob1!C$8/prob1!C$2)-1)","v":-850570.20777441328},{"$f":"prob1!C$10-prob1!C$11*(EXP(Sheet1!A23/prob1!C$12/prob1!C$2)-1)","v":79.990777255347083},99.981554510694167]
[1,{"$f":"prob1!C$16-SQRT((prob1!C$17/2)^2+prob1!C$6*prob1!C$7*EXP(Sheet1!A24/prob1!C$8/prob1!C$2))","v":19.975786177448121},{"$f":"prob1!C$8*prob1!C$2*LN((prob1!C$4-Sheet1!B24)/prob1!C$6+1)","v":0.50000000000000289},{"$f":"prob1!C$8*prob1!C$2*LN((prob1!C$5-Sheet1!B24)/prob1!C$7+1)","v":0.50000000000000289},{"$f":"prob1!C$4-prob1!C$6*(EXP(Sheet1!A24/prob1!C$8/prob1!C$2)-1)","v":-5863072.0741649671},{"$f":"prob1!C$5-prob1!C$7*(EXP(Sheet1!A24/prob1!C$8/prob1!C$2)-1)","v":-5863072.0741649671},{"$f":"prob1!C$10-prob1!C$11*(EXP(Sheet1!A24/prob1!C$12/prob1!C$2)-1)","v":79.975786177448128},99.951572354896257]
[1.05,{"$f":"prob1!C$16-SQRT((prob1!C$17/2)^2+prob1!C$6*prob1!C$7*EXP(Sheet1!A25/prob1!C$8/prob1!C$2))","v":19.936427904902295},{"$f":"prob1!C$8*prob1!C$2*LN((prob1!C$4-Sheet1!B25)/prob1!C$6+1)","v":0.52500000000000058},{"$f":"prob1!C$8*prob1!C$2*LN((prob1!C$5-Sheet1!B25)/prob1!C$7+1)","v":0.52500000000000058},{"$f":"prob1!C$4-prob1!C$6*(EXP(Sheet1!A25/prob1!C$8/prob1!C$2)-1)","v":-40414092.878258258},{"$f":"prob1!C$5-prob1!C$7*(EXP(Sheet1!A25/prob1!C$8/prob1!C$2)-1)","v":-40414092.878258258},{"$f":"prob1!C$10-prob1!C$11*(EXP(Sheet1!A25/prob1!C$12/prob1!C$2)-1)","v":79.936427904902303},99.872855809804605]
[1.1000000000000001,{"$f":"prob1!C$16-SQRT((prob1!C$17/2)^2+prob1!C$6*prob1!C$7*EXP(Sheet1!A26/prob1!C$8/prob1!C$2))","v":19.833094867195975},{"$f":"prob1!C$8*prob1!C$2*LN((prob1!C$4-Sheet1!B26)/prob1!C$6+1)","v":0.55000000000000016},{"$f":"prob1!C$8*prob1!C$2*LN((prob1!C$5-Sheet1!B26)/prob1!C$7+1)","v":0.55000000000000016},{"$f":"prob1!C$4-prob1!C$6*(EXP(Sheet1!A26/prob1!C$8/prob1!C$2)-1)","v":-278573213.8971017},{"$f":"prob1!C$5-prob1!C$7*(EXP(Sheet1!A26/prob1!C$8/prob1!C$2)-1)","v":-278573213.8971017},{"$f":"prob1!C$10-prob1!C$11*(EXP(Sheet1!A26/prob1!C$12/prob1!C$2)-1)","v":79.833094867195982},99.666189734391963]
[1.1499999999999999,{"$f":"prob1!C$16-SQRT((prob1!C$17/2)^2+prob1!C$6*prob1!C$7*EXP(Sheet1!A27/prob1!C$8/prob1!C$2))","v":19.561799508153392},{"$f":"prob1!C$8*prob1!C$2*LN((prob1!C$4-Sheet1!B27)/prob1!C$6+1)","v":0.57499999999999996},{"$f":"prob1!C$8*prob1!C$2*LN((prob1!C$5-Sheet1!B27)/prob1!C$7+1)","v":0.57499999999999996},{"$f":"prob1!C$4-prob1!C$6*(EXP(Sheet1!A27/prob1!C$8/prob1!C$2)-1)","v":-1920196691.4224892},{"$f":"prob1!C$5-prob1!C$7*(EXP(Sheet1!A27/prob1!C$8/prob1!C$2)-1)","v":-1920196691.4224892},{"$f":"prob1!C$10-prob1!C$11*(EXP(Sheet1!A27/prob1!C$12/prob1!C$2)-1)","v":79.561799508153399},99.123599016306798]
[1.2,{"$f":"prob1!C$16-SQRT((prob1!C$17/2)^2+prob1!C$6*prob1!C$7*EXP(Sheet1!A28/prob1!C$8/prob1!C$2))","v":18.849528065527043},{"$f":"prob1!C$8*prob1!C$2*LN((prob1!C$4-Sheet1!B28)/prob1!C$6+1)","v":0.6},{"$f":"prob1!C$8*prob1!C$2*LN((prob1!C$5-Sheet1!B28)/prob1!C$7+1)","v":0.6},{"$f":"prob1!C$4-prob1!C$6*(EXP(Sheet1!A28/prob1!C$8/prob1!C$2)-1)","v":-13235856702.400383},{"$f":"prob1!C$5-prob1!C$7*(EXP(Sheet1!A28/prob1!C$8/prob1!C$2)-1)","v":-13235856702.400383},{"$f":"prob1!C$10-prob1!C$11*(EXP(Sheet1!A28/prob1!C$12/prob1!C$2)-1)","v":78.849528065527039},97.699056131054078]
[1.25,{"$f":"prob1!C$16-SQRT((prob1!C$17/2)^2+prob1!C$6*prob1!C$7*EXP(Sheet1!A29/prob1!C$8/prob1!C$2))","v":16.979497521062822},{"$f":"prob1!C$8*prob1!C$2*LN((prob1!C$4-Sheet1!B29)/prob1!C$6+1)","v":0.625},{"$f":"prob1!C$8*prob1!C$2*LN((prob1!C$5-Sheet1!B29)/prob1!C$7+1)","v":0.625},{"$f":"prob1!C$4-prob1!C$6*(EXP(Sheet1!A29/prob1!C$8/prob1!C$2)-1)","v":-91234352238.69725},{"$f":"prob1!C$5-prob1!C$7*(EXP(Sheet1!A29/prob1!C$8/prob1!C$2)-1)","v":-91234352238.69725},{"$f":"prob1!C$10-prob1!C$11*(EXP(Sheet1!A29/prob1!C$12/prob1!C$2)-1)","v":76.979497521062825},93.95899504212565]
[1.3,{"$f":"prob1!C$16-SQRT((prob1!C$17/2)^2+prob1!C$6*prob1!C$7*EXP(Sheet1!A30/prob1!C$8/prob1!C$2))","v":12.069832429992118},{"$f":"prob1!C$8*prob1!C$2*LN((prob1!C$4-Sheet1!B30)/prob1!C$6+1)","v":0.65},{"$f":"prob1!C$8*prob1!C$2*LN((prob1!C$5-Sheet1!B30)/prob1!C$7+1)","v":0.65},{"$f":"prob1!C$4-prob1!C$6*(EXP(Sheet1!A30/prob1!C$8/prob1!C$2)-1)","v":-628875576879.90735},{"$f":"prob1!C$5-prob1!C$7*(EXP(Sheet1!A30/prob1!C$8/prob1!C$2)-1)","v":-628875576879.90735},{"$f":"prob1!C$10-prob1!C$11*(EXP(Sheet1!A30/prob1!C$12/prob1!C$2)-1)","v":72.069832429992118},84.139664859984237]
[1.35,{"$f":"prob1!C$16-SQRT((prob1!C$17/2)^2+prob1!C$6*prob1!C$7*EXP(Sheet1!A31/prob1!C$8/prob1!C$2))","v":-0.82023045044310194},{"$f":"prob1!C$8*prob1!C$2*LN((prob1!C$4-Sheet1!B31)/prob1!C$6+1)","v":0.67500000000000004},{"$f":"prob1!C$8*prob1!C$2*LN((prob1!C$5-Sheet1!B31)/prob1!C$7+1)","v":0.67500000000000004},{"$f":"prob1!C$4-prob1!C$6*(EXP(Sheet1!A31/prob1!C$8/prob1!C$2)-1)","v":-4334819960117.2217},{"$f":"prob1!C$5-prob1!C$7*(EXP(Sheet1!A31/prob1!C$8/prob1!C$2)-1)","v":-4334819960117.2217},{"$f":"prob1!C$10-prob1!C$11*(EXP(Sheet1!A31/prob1!C$12/prob1!C$2)-1)","v":59.179769549556895},58.359539099113789]
[1.4,{"$f":"prob1!C$16-SQRT((prob1!C$17/2)^2+prob1!C$6*prob1!C$7*EXP(Sheet1!A32/prob1!C$8/prob1!C$2))","v":-34.662400533237289},{"$f":"prob1!C$8*prob1!C$2*LN((prob1!C$4-Sheet1!B32)/prob1!C$6+1)","v":0.7},{"$f":"prob1!C$8*prob1!C$2*LN((prob1!C$5-Sheet1!B32)/prob1!C$7+1)","v":0.7},{"$f":"prob1!C$4-prob1!C$6*(EXP(Sheet1!A32/prob1!C$8/prob1!C$2)-1)","v":-29879780320649.926},{"$f":"prob1!C$5-prob1!C$7*(EXP(Sheet1!A32/prob1!C$8/prob1!C$2)-1)","v":-29879780320649.926},{"$f":"prob1!C$10-prob1!C$11*(EXP(Sheet1!A32/prob1!C$12/prob1!C$2)-1)","v":25.337599466762711},-9.3248010664745777]
[1.45,{"$f":"prob1!C$16-SQRT((prob1!C$17/2)^2+prob1!C$6*prob1!C$7*EXP(Sheet1!A33/prob1!C$8/prob1!C$2))","v":-123.51320650185163},{"$f":"prob1!C$8*prob1!C$2*LN((prob1!C$4-Sheet1!B33)/prob1!C$6+1)","v":0.72499999999999998},{"$f":"prob1!C$8*prob1!C$2*LN((prob1!C$5-Sheet1!B33)/prob1!C$7+1)","v":0.72499999999999998},{"$f":"prob1!C$4-prob1!C$6*(EXP(Sheet1!A33/prob1!C$8/prob1!C$2)-1)","v":-205960404404698.13},{"$f":"prob1!C$5-prob1!C$7*(EXP(Sheet1!A33/prob1!C$8/prob1!C$2)-1)","v":-205960404404698.13},{"$f":"prob1!C$10-prob1!C$11*(EXP(Sheet1!A33/prob1!C$12/prob1!C$2)-1)","v":-63.513206501851641},-187.02641300370328]
[1.5,{"$f":"prob1!C$16-SQRT((prob1!C$17/2)^2+prob1!C$6*prob1!C$7*EXP(Sheet1!A34/prob1!C$8/prob1!C$2))","v":-356.7862413562558},{"$f":"prob1!C$8*prob1!C$2*LN((prob1!C$4-Sheet1!B34)/prob1!C$6+1)","v":0.75},{"$f":"prob1!C$8*prob1!C$2*LN((prob1!C$5-Sheet1!B34)/prob1!C$7+1)","v":0.75},{"$f":"prob1!C$4-prob1!C$6*(EXP(Sheet1!A34/prob1!C$8/prob1!C$2)-1)","v":-1419678716754480},{"$f":"prob1!C$5-prob1!C$7*(EXP(Sheet1!A34/prob1!C$8/prob1!C$2)-1)","v":-1419678716754480},{"$f":"prob1!C$10-prob1!C$11*(EXP(Sheet1!A34/prob1!C$12/prob1!C$2)-1)","v":-296.7862413562558},-653.5724827125116]
[1.55,{"$f":"prob1!C$16-SQRT((prob1!C$17/2)^2+prob1!C$6*prob1!C$7*EXP(Sheet1!A35/prob1!C$8/prob1!C$2))","v":-969.23210717548159},{"$f":"prob1!C$8*prob1!C$2*LN((prob1!C$4-Sheet1!B35)/prob1!C$6+1)","v":0.77500000000000002},{"$f":"prob1!C$8*prob1!C$2*LN((prob1!C$5-Sheet1!B35)/prob1!C$7+1)","v":0.77500000000000002},{"$f":"prob1!C$4-prob1!C$6*(EXP(Sheet1!A35/prob1!C$8/prob1!C$2)-1)","v":-9785801618670394},{"$f":"prob1!C$5-prob1!C$7*(EXP(Sheet1!A35/prob1!C$8/prob1!C$2)-1)","v":-9785801618670394},{"$f":"prob1!C$10-prob1!C$11*(EXP(Sheet1!A35/prob1!C$12/prob1!C$2)-1)","v":-909.2321071754817},-1878.4642143509632]
[1.6,{"$f":"prob1!C$16-SQRT((prob1!C$17/2)^2+prob1!C$6*prob1!C$7*EXP(Sheet1!A36/prob1!C$8/prob1!C$2))","v":-2577.1759434323003},{"$f":"prob1!C$8*prob1!C$2*LN((prob1!C$4-Sheet1!B36)/prob1!C$6+1)","v":0.8},{"$f":"prob1!C$8*prob1!C$2*LN((prob1!C$5-Sheet1!B36)/prob1!C$7+1)","v":0.8},{"$f":"prob1!C$4-prob1!C$6*(EXP(Sheet1!A36/prob1!C$8/prob1!C$2)-1)","v":-6.745322881143976E+16},{"$f":"prob1!C$5-prob1!C$7*(EXP(Sheet1!A36/prob1!C$8/prob1!C$2)-1)","v":-6.745322881143976E+16},{"$f":"prob1!C$10-prob1!C$11*(EXP(Sheet1!A36/prob1!C$12/prob1!C$2)-1)","v":-2517.1759434323003},-5094.3518868646006]
[1.65,{"$f":"prob1!C$16-SQRT((prob1!C$17/2)^2+prob1!C$6*prob1!C$7*EXP(Sheet1!A37/prob1!C$8/prob1!C$2))","v":-6798.746411701949},{"$f":"prob1!C$8*prob1!C$2*LN((prob1!C$4-Sheet1!B37)/prob1!C$6+1)","v":0.82499999999999996},{"$f":"prob1!C$8*prob1!C$2*LN((prob1!C$5-Sheet1!B37)/prob1!C$7+1)","v":0.82499999999999996},{"$f":"prob1!C$4-prob1!C$6*(EXP(Sheet1!A37/prob1!C$8/prob1!C$2)-1)","v":-4.6495302627099565E+17},{"$f":"prob1!C$5-prob1!C$7*(EXP(Sheet1!A37/prob1!C$8/prob1!C$2)-1)","v":-4.6495302627099565E+17},{"$f":"prob1!C$10-prob1!C$11*(EXP(Sheet1!A37/prob1!C$12/prob1!C$2)-1)","v":-6738.746411701949},-13537.492823403898]
[1.7,{"$f":"prob1!C$16-SQRT((prob1!C$17/2)^2+prob1!C$6*prob1!C$7*EXP(Sheet1!A38/prob1!C$8/prob1!C$2))","v":-17882.25369393019},{"$f":"prob1!C$8*prob1!C$2*LN((prob1!C$4-Sheet1!B38)/prob1!C$6+1)","v":0.84999999999999987},{"$f":"prob1!C$8*prob1!C$2*LN((prob1!C$5-Sheet1!B38)/prob1!C$7+1)","v":0.84999999999999987},{"$f":"prob1!C$4-prob1!C$6*(EXP(Sheet1!A38/prob1!C$8/prob1!C$2)-1)","v":-3.2049068732184064E+18},{"$f":"prob1!C$5-prob1!C$7*(EXP(Sheet1!A38/prob1!C$8/prob1!C$2)-1)","v":-3.2049068732184064E+18},{"$f":"prob1!C$10-prob1!C$11*(EXP(Sheet1!A38/prob1!C$12/prob1!C$2)-1)","v":-17822.25369393019},-35704.50738786038]
[1.75,{"$f":"prob1!C$16-SQRT((prob1!C$17/2)^2+prob1!C$6*prob1!C$7*EXP(Sheet1!A39/prob1!C$8/prob1!C$2))","v":-46981.408759215381},{"$f":"prob1!C$8*prob1!C$2*LN((prob1!C$4-Sheet1!B39)/prob1!C$6+1)","v":0.875},{"$f":"prob1!C$8*prob1!C$2*LN((prob1!C$5-Sheet1!B39)/prob1!C$7+1)","v":0.875},{"$f":"prob1!C$4-prob1!C$6*(EXP(Sheet1!A39/prob1!C$8/prob1!C$2)-1)","v":-2.2091324253508579E+19},{"$f":"prob1!C$5-prob1!C$7*(EXP(Sheet1!A39/prob1!C$8/prob1!C$2)-1)","v":-2.2091324253508579E+19},{"$f":"prob1!C$10-prob1!C$11*(EXP(Sheet1!A39/prob1!C$12/prob1!C$2)-1)","v":-46921.408759215381},-93902.817518430762]
[1.8,{"$f":"prob1!C$16-SQRT((prob1!C$17/2)^2+prob1!C$6*prob1!C$7*EXP(Sheet1!A40/prob1!C$8/prob1!C$2))","v":-123379.68269469091},{"$f":"prob1!C$8*prob1!C$2*LN((prob1!C$4-Sheet1!B40)/prob1!C$6+1)","v":0.9},{"$f":"prob1!C$8*prob1!C$2*LN((prob1!C$5-Sheet1!B40)/prob1!C$7+1)","v":0.9},{"$f":"prob1!C$4-prob1!C$6*(EXP(Sheet1!A40/prob1!C$8/prob1!C$2)-1)","v":-1.5227481689150426E+20},{"$f":"prob1!C$5-prob1!C$7*(EXP(Sheet1!A40/prob1!C$8/prob1!C$2)-1)","v":-1.5227481689150426E+20},{"$f":"prob1!C$10-prob1!C$11*(EXP(Sheet1!A40/prob1!C$12/prob1!C$2)-1)","v":-123319.6826946909},-246699.36538938183]
[1.85,{"$f":"prob1!C$16-SQRT((prob1!C$17/2)^2+prob1!C$6*prob1!C$7*EXP(Sheet1!A41/prob1!C$8/prob1!C$2))","v":-323959.26128469064},{"$f":"prob1!C$8*prob1!C$2*LN((prob1!C$4-Sheet1!B41)/prob1!C$6+1)","v":0.92500000000000004},{"$f":"prob1!C$8*prob1!C$2*LN((prob1!C$5-Sheet1!B41)/prob1!C$7+1)","v":0.92500000000000004},{"$f":"prob1!C$4-prob1!C$6*(EXP(Sheet1!A41/prob1!C$8/prob1!C$2)-1)","v":-1.0496256174257392E+21},{"$f":"prob1!C$5-prob1!C$7*(EXP(Sheet1!A41/prob1!C$8/prob1!C$2)-1)","v":-1.0496256174257392E+21},{"$f":"prob1!C$10-prob1!C$11*(EXP(Sheet1!A41/prob1!C$12/prob1!C$2)-1)","v":-323899.26128469064},-647858.52256938128]
[1.9,{"$f":"prob1!C$16-SQRT((prob1!C$17/2)^2+prob1!C$6*prob1!C$7*EXP(Sheet1!A42/prob1!C$8/prob1!C$2))","v":-850570.20777441328},{"$f":"prob1!C$8*prob1!C$2*LN((prob1!C$4-Sheet1!B42)/prob1!C$6+1)","v":0.95000000000000007},{"$f":"prob1!C$8*prob1!C$2*LN((prob1!C$5-Sheet1!B42)/prob1!C$7+1)","v":0.95000000000000007},{"$f":"prob1!C$4-prob1!C$6*(EXP(Sheet1!A42/prob1!C$8/prob1!C$2)-1)","v":-7.2350370156171976E+21},{"$f":"prob1!C$5-prob1!C$7*(EXP(Sheet1!A42/prob1!C$8/prob1!C$2)-1)","v":-7.2350370156171976E+21},{"$f":"prob1!C$10-prob1!C$11*(EXP(Sheet1!A42/prob1!C$12/prob1!C$2)-1)","v":-850510.20777441328},-1701080.4155488266]
[1.9500000000000002,{"$f":"prob1!C$16-SQRT((prob1!C$17/2)^2+prob1!C$6*prob1!C$7*EXP(Sheet1!A43/prob1!C$8/prob1!C$2))","v":-2233159.0581062976},{"$f":"prob1!C$8*prob1!C$2*LN((prob1!C$4-Sheet1!B43)/prob1!C$6+1)","v":0.97500000000000009},{"$f":"prob1!C$8*prob1!C$2*LN((prob1!C$5-Sheet1!B43)/prob1!C$7+1)","v":0.97500000000000009},{"$f":"prob1!C$4-prob1!C$6*(EXP(Sheet1!A43/prob1!C$8/prob1!C$2)-1)","v":-4.9870887055645307E+22},{"$f":"prob1!C$5-prob1!C$7*(EXP(Sheet1!A43/prob1!C$8/prob1!C$2)-1)","v":-4.9870887055645307E+22},{"$f":"prob1!C$10-prob1!C$11*(EXP(Sheet1!A43/prob1!C$12/prob1!C$2)-1)","v":-2233099.0581062976},-4466258.1162125953]
[2,{"$f":"prob1!C$16-SQRT((prob1!C$17/2)^2+prob1!C$6*prob1!C$7*EXP(Sheet1!A44/prob1!C$8/prob1!C$2))","v":-5863072.0741649661},{"$f":"prob1!C$8*prob1!C$2*LN((prob1!C$4-Sheet1!B44)/prob1!C$6+1)","v":0.99999999999999989},{"$f":"prob1!C$8*prob1!C$2*LN((prob1!C$5-Sheet1!B44)/prob1!C$7+1)","v":0.99999999999999989},{"$f":"prob1!C$4-prob1!C$6*(EXP(Sheet1!A44/prob1!C$8/prob1!C$2)-1)","v":-3.4375848670136045E+23},{"$f":"prob1!C$5-prob1!C$7*(EXP(Sheet1!A44/prob1!C$8/prob1!C$2)-1)","v":-3.4375848670136045E+23},{"$f":"prob1!C$10-prob1!C$11*(EXP(Sheet1!A44/prob1!C$12/prob1!C$2)-1)","v":-5863012.0741649671},-11726084.148329932]
[2.0499999999999998,{"$f":"prob1!C$16-SQRT((prob1!C$17/2)^2+prob1!C$6*prob1!C$7*EXP(Sheet1!A45/prob1!C$8/prob1!C$2))","v":-15393214.387253523},{"$f":"prob1!C$8*prob1!C$2*LN((prob1!C$4-Sheet1!B45)/prob1!C$6+1)","v":1.0249999999999999},{"$f":"prob1!C$8*prob1!C$2*LN((prob1!C$5-Sheet1!B45)/prob1!C$7+1)","v":1.0249999999999999},{"$f":"prob1!C$4-prob1!C$6*(EXP(Sheet1!A45/prob1!C$8/prob1!C$2)-1)","v":-2.3695166490092429E+24},{"$f":"prob1!C$5-prob1!C$7*(EXP(Sheet1!A45/prob1!C$8/prob1!C$2)-1)","v":-2.3695166490092429E+24},{"$f":"prob1!C$10-prob1!C$11*(EXP(Sheet1!A45/prob1!C$12/prob1!C$2)-1)","v":-15393154.387253521},-30786368.774507046]
[2.1,{"$f":"prob1!C$16-SQRT((prob1!C$17/2)^2+prob1!C$6*prob1!C$7*EXP(Sheet1!A46/prob1!C$8/prob1!C$2))","v":-40414092.878258258},{"$f":"prob1!C$8*prob1!C$2*LN((prob1!C$4-Sheet1!B46)/prob1!C$6+1)","v":1.05},{"$f":"prob1!C$8*prob1!C$2*LN((prob1!C$5-Sheet1!B46)/prob1!C$7+1)","v":1.05},{"$f":"prob1!C$4-prob1!C$6*(EXP(Sheet1!A46/prob1!C$8/prob1!C$2)-1)","v":-1.6333005197366001E+25},{"$f":"prob1!C$5-prob1!C$7*(EXP(Sheet1!A46/prob1!C$8/prob1!C$2)-1)","v":-1.6333005197366001E+25},{"$f":"prob1!C$10-prob1!C$11*(EXP(Sheet1!A46/prob1!C$12/prob1!C$2)-1)","v":-40414032.878258258},-80828125.756516516]
[2.15,{"$f":"prob1!C$16-SQRT((prob1!C$17/2)^2+prob1!C$6*prob1!C$7*EXP(Sheet1!A47/prob1!C$8/prob1!C$2))","v":-106105069.97959951},{"$f":"prob1!C$8*prob1!C$2*LN((prob1!C$4-Sheet1!B47)/prob1!C$6+1)","v":1.075},{"$f":"prob1!C$8*prob1!C$2*LN((prob1!C$5-Sheet1!B47)/prob1!C$7+1)","v":1.075},{"$f":"prob1!C$4-prob1!C$6*(EXP(Sheet1!A47/prob1!C$8/prob1!C$2)-1)","v":-1.1258290119578908E+26},{"$f":"prob1!C$5-prob1!C$7*(EXP(Sheet1!A47/prob1!C$8/prob1!C$2)-1)","v":-1.1258290119578908E+26},{"$f":"prob1!C$10-prob1!C$11*(EXP(Sheet1!A47/prob1!C$12/prob1!C$2)-1)","v":-106105009.97959951},-212210079.95919901]
[2.2000000000000002,{"$f":"prob1!C$16-SQRT((prob1!C$17/2)^2+prob1!C$6*prob1!C$7*EXP(Sheet1!A48/prob1!C$8/prob1!C$2))","v":-278573213.8971017},{"$f":"prob1!C$8*prob1!C$2*LN((prob1!C$4-Sheet1!B48)/prob1!C$6+1)","v":1.1000000000000001},{"$f":"prob1!C$8*prob1!C$2*LN((prob1!C$5-Sheet1!B48)/prob1!C$7+1)","v":1.1000000000000001},{"$f":"prob1!C$4-prob1!C$6*(EXP(Sheet1!A48/prob1!C$8/prob1!C$2)-1)","v":-7.7603046643889326E+26},{"$f":"prob1!C$5-prob1!C$7*(EXP(Sheet1!A48/prob1!C$8/prob1!C$2)-1)","v":-7.7603046643889326E+26},{"$f":"prob1!C$10-prob1!C$11*(EXP(Sheet1!A48/prob1!C$12/prob1!C$2)-1)","v":-278573153.8971017},-557146367.7942034]
[2.25,{"$f":"prob1!C$16-SQRT((prob1!C$17/2)^2+prob1!C$6*prob1!C$7*EXP(Sheet1!A49/prob1!C$8/prob1!C$2))","v":-731379093.46957827},{"$f":"prob1!C$8*prob1!C$2*LN((prob1!C$4-Sheet1!B49)/prob1!C$6+1)","v":1.125},{"$f":"prob1!C$8*prob1!C$2*LN((prob1!C$5-Sheet1!B49)/prob1!C$7+1)","v":1.125},{"$f":"prob1!C$4-prob1!C$6*(EXP(Sheet1!A49/prob1!C$8/prob1!C$2)-1)","v":-5.3491540761954629E+27},{"$f":"prob1!C$5-prob1!C$7*(EXP(Sheet1!A49/prob1!C$8/prob1!C$2)-1)","v":-5.3491540761954629E+27},{"$f":"prob1!C$10-prob1!C$11*(EXP(Sheet1!A49/prob1!C$12/prob1!C$2)-1)","v":-731379033.46957827},-1462758126.9391565]
[2.3000000000000003,{"$f":"prob1!C$16-SQRT((prob1!C$17/2)^2+prob1!C$6*prob1!C$7*EXP(Sheet1!A50/prob1!C$8/prob1!C$2))","v":-1920196691.4225028},{"$f":"prob1!C$8*prob1!C$2*LN((prob1!C$4-Sheet1!B50)/prob1!C$6+1)","v":1.1500000000000001},{"$f":"prob1!C$8*prob1!C$2*LN((prob1!C$5-Sheet1!B50)/prob1!C$7+1)","v":1.1500000000000001},{"$f":"prob1!C$4-prob1!C$6*(EXP(Sheet1!A50/prob1!C$8/prob1!C$2)-1)","v":-3.687155410557794E+28},{"$f":"prob1!C$5-prob1!C$7*(EXP(Sheet1!A50/prob1!C$8/prob1!C$2)-1)","v":-3.687155410557794E+28},{"$f":"prob1!C$10-prob1!C$11*(EXP(Sheet1!A50/prob1!C$12/prob1!C$2)-1)","v":-1920196631.4225025},-3840393322.845005]
[2.35,{"$f":"prob1!C$16-SQRT((prob1!C$17/2)^2+prob1!C$6*prob1!C$7*EXP(Sheet1!A51/prob1!C$8/prob1!C$2))","v":-5041373657.0063791},{"$f":"prob1!C$8*prob1!C$2*LN((prob1!C$4-Sheet1!B51)/prob1!C$6+1)","v":1.175},{"$f":"prob1!C$8*prob1!C$2*LN((prob1!C$5-Sheet1!B51)/prob1!C$7+1)","v":1.175},{"$f":"prob1!C$4-prob1!C$6*(EXP(Sheet1!A51/prob1!C$8/prob1!C$2)-1)","v":-2.5415448551212821E+29},{"$f":"prob1!C$5-prob1!C$7*(EXP(Sheet1!A51/prob1!C$8/prob1!C$2)-1)","v":-2.5415448551212821E+29},{"$f":"prob1!C$10-prob1!C$11*(EXP(Sheet1!A51/prob1!C$12/prob1!C$2)-1)","v":-5041373597.0063791},-10082747254.012758]
[2.4,{"$f":"prob1!C$16-SQRT((prob1!C$17/2)^2+prob1!C$6*prob1!C$7*EXP(Sheet1!A52/prob1!C$8/prob1!C$2))","v":-13235856702.400383},{"$f":"prob1!C$8*prob1!C$2*LN((prob1!C$4-Sheet1!B52)/prob1!C$6+1)","v":1.2},{"$f":"prob1!C$8*prob1!C$2*LN((prob1!C$5-Sheet1!B52)/prob1!C$7+1)","v":1.2},{"$f":"prob1!C$4-prob1!C$6*(EXP(Sheet1!A52/prob1!C$8/prob1!C$2)-1)","v":-1.7518790317591141E+30},{"$f":"prob1!C$5-prob1!C$7*(EXP(Sheet1!A52/prob1!C$8/prob1!C$2)-1)","v":-1.7518790317591141E+30},{"$f":"prob1!C$10-prob1!C$11*(EXP(Sheet1!A52/prob1!C$12/prob1!C$2)-1)","v":-13235856642.400383},-26471713344.800766]
[2.4500000000000002,{"$f":"prob1!C$16-SQRT((prob1!C$17/2)^2+prob1!C$6*prob1!C$7*EXP(Sheet1!A53/prob1!C$8/prob1!C$2))","v":-34750033284.403076},{"$f":"prob1!C$8*prob1!C$2*LN((prob1!C$4-Sheet1!B53)/prob1!C$6+1)","v":1.2250000000000001},{"$f":"prob1!C$8*prob1!C$2*LN((prob1!C$5-Sheet1!B53)/prob1!C$7+1)","v":1.2250000000000001},{"$f":"prob1!C$4-prob1!C$6*(EXP(Sheet1!A53/prob1!C$8/prob1!C$2)-1)","v":-1.2075648146571226E+31},{"$f":"prob1!C$5-prob1!C$7*(EXP(Sheet1!A53/prob1!C$8/prob1!C$2)-1)","v":-1.2075648146571226E+31},{"$f":"prob1!C$10-prob1!C$11*(EXP(Sheet1!A53/prob1!C$12/prob1!C$2)-1)","v":-34750033224.403069},-69500066508.806152]
[2.5,{"$f":"prob1!C$16-SQRT((prob1!C$17/2)^2+prob1!C$6*prob1!C$7*EXP(Sheet1!A54/prob1!C$8/prob1!C$2))","v":-91234352238.69725},{"$f":"prob1!C$8*prob1!C$2*LN((prob1!C$4-Sheet1!B54)/prob1!C$6+1)","v":1.25},{"$f":"prob1!C$8*prob1!C$2*LN((prob1!C$5-Sheet1!B54)/prob1!C$7+1)","v":1.25},{"$f":"prob1!C$4-prob1!C$6*(EXP(Sheet1!A54/prob1!C$8/prob1!C$2)-1)","v":-8.3237070320640568E+31},{"$f":"prob1!C$5-prob1!C$7*(EXP(Sheet1!A54/prob1!C$8/prob1!C$2)-1)","v":-8.3237070320640568E+31},{"$f":"prob1!C$10-prob1!C$11*(EXP(Sheet1!A54/prob1!C$12/prob1!C$2)-1)","v":-91234352178.69725},-182468704417.3945]
[2.5500000000000003,{"$f":"prob1!C$16-SQRT((prob1!C$17/2)^2+prob1!C$6*prob1!C$7*EXP(Sheet1!A55/prob1!C$8/prob1!C$2))","v":-239530908026.91074},{"$f":"prob1!C$8*prob1!C$2*LN((prob1!C$4-Sheet1!B55)/prob1!C$6+1)","v":1.2750000000000001},{"$f":"prob1!C$8*prob1!C$2*LN((prob1!C$5-Sheet1!B55)/prob1!C$7+1)","v":1.2750000000000001},{"$f":"prob1!C$4-prob1!C$6*(EXP(Sheet1!A55/prob1!C$8/prob1!C$2)-1)","v":-5.7375055909777602E+32},{"$f":"prob1!C$5-prob1!C$7*(EXP(Sheet1!A55/prob1!C$8/prob1!C$2)-1)","v":-5.7375055909777602E+32},{"$f":"prob1!C$10-prob1!C$11*(EXP(Sheet1!A55/prob1!C$12/prob1!C$2)-1)","v":-239530907966.91071},-479061815993.82141]
[2.6,{"$f":"prob1!C$16-SQRT((prob1!C$17/2)^2+prob1!C$6*prob1!C$7*EXP(Sheet1!A56/prob1!C$8/prob1!C$2))","v":-628875576879.90747},{"$f":"prob1!C$8*prob1!C$2*LN((prob1!C$4-Sheet1!B56)/prob1!C$6+1)","v":1.3},{"$f":"prob1!C$8*prob1!C$2*LN((prob1!C$5-Sheet1!B56)/prob1!C$7+1)","v":1.3},{"$f":"prob1!C$4-prob1!C$6*(EXP(Sheet1!A56/prob1!C$8/prob1!C$2)-1)","v":-3.9548449122119134E+33},{"$f":"prob1!C$5-prob1!C$7*(EXP(Sheet1!A56/prob1!C$8/prob1!C$2)-1)","v":-3.9548449122119134E+33},{"$f":"prob1!C$10-prob1!C$11*(EXP(Sheet1!A56/prob1!C$12/prob1!C$2)-1)","v":-628875576819.90735},-1257751153699.8149]
[2.65,{"$f":"prob1!C$16-SQRT((prob1!C$17/2)^2+prob1!C$6*prob1!C$7*EXP(Sheet1!A57/prob1!C$8/prob1!C$2))","v":-1651079163190.6833},{"$f":"prob1!C$8*prob1!C$2*LN((prob1!C$4-Sheet1!B57)/prob1!C$6+1)","v":1.325},{"$f":"prob1!C$8*prob1!C$2*LN((prob1!C$5-Sheet1!B57)/prob1!C$7+1)","v":1.325},{"$f":"prob1!C$4-prob1!C$6*(EXP(Sheet1!A57/prob1!C$8/prob1!C$2)-1)","v":-2.72606240318849E+34},{"$f":"prob1!C$5-prob1!C$7*(EXP(Sheet1!A57/prob1!C$8/prob1!C$2)-1)","v":-2.72606240318849E+34},{"$f":"prob1!C$10-prob1!C$11*(EXP(Sheet1!A57/prob1!C$12/prob1!C$2)-1)","v":-1651079163130.6833},-3302158326321.3667]
[2.7,{"$f":"prob1!C$16-SQRT((prob1!C$17/2)^2+prob1!C$6*prob1!C$7*EXP(Sheet1!A58/prob1!C$8/prob1!C$2))","v":-4334819960117.2217},{"$f":"prob1!C$8*prob1!C$2*LN((prob1!C$4-Sheet1!B58)/prob1!C$6+1)","v":1.35},{"$f":"prob1!C$8*prob1!C$2*LN((prob1!C$5-Sheet1!B58)/prob1!C$7+1)","v":1.35},{"$f":"prob1!C$4-prob1!C$6*(EXP(Sheet1!A58/prob1!C$8/prob1!C$2)-1)","v":-1.8790664086804063E+35},{"$f":"prob1!C$5-prob1!C$7*(EXP(Sheet1!A58/prob1!C$8/prob1!C$2)-1)","v":-1.8790664086804063E+35},{"$f":"prob1!C$10-prob1!C$11*(EXP(Sheet1!A58/prob1!C$12/prob1!C$2)-1)","v":-4334819960057.2217},-8669639920174.4434]
[2.75,{"$f":"prob1!C$16-SQRT((prob1!C$17/2)^2+prob1!C$6*prob1!C$7*EXP(Sheet1!A59/prob1!C$8/prob1!C$2))","v":-11380837760819.725},{"$f":"prob1!C$8*prob1!C$2*LN((prob1!C$4-Sheet1!B59)/prob1!C$6+1)","v":1.375},{"$f":"prob1!C$8*prob1!C$2*LN((prob1!C$5-Sheet1!B59)/prob1!C$7+1)","v":1.375},{"$f":"prob1!C$4-prob1!C$6*(EXP(Sheet1!A59/prob1!C$8/prob1!C$2)-1)","v":-1.2952346813855533E+36},{"$f":"prob1!C$5-prob1!C$7*(EXP(Sheet1!A59/prob1!C$8/prob1!C$2)-1)","v":-1.2952346813855533E+36},{"$f":"prob1!C$10-prob1!C$11*(EXP(Sheet1!A59/prob1!C$12/prob1!C$2)-1)","v":-11380837760759.725},-22761675521579.449]
[2.8000000000000003,{"$f":"prob1!C$16-SQRT((prob1!C$17/2)^2+prob1!C$6*prob1!C$7*EXP(Sheet1!A60/prob1!C$8/prob1!C$2))","v":-29879780320650.348},{"$f":"prob1!C$8*prob1!C$2*LN((prob1!C$4-Sheet1!B60)/prob1!C$6+1)","v":1.4000000000000001},{"$f":"prob1!C$8*prob1!C$2*LN((prob1!C$5-Sheet1!B60)/prob1!C$7+1)","v":1.4000000000000001},{"$f":"prob1!C$4-prob1!C$6*(EXP(Sheet1!A60/prob1!C$8/prob1!C$2)-1)","v":-8.9280127201151909E+36},{"$f":"prob1!C$5-prob1!C$7*(EXP(Sheet1!A60/prob1!C$8/prob1!C$2)-1)","v":-8.9280127201151909E+36},{"$f":"prob1!C$10-prob1!C$11*(EXP(Sheet1!A60/prob1!C$12/prob1!C$2)-1)","v":-29879780320590.348},-59759560641240.695]
[2.85,{"$f":"prob1!C$16-SQRT((prob1!C$17/2)^2+prob1!C$6*prob1!C$7*EXP(Sheet1!A61/prob1!C$8/prob1!C$2))","v":-78447763756312.813},{"$f":"prob1!C$8*prob1!C$2*LN((prob1!C$4-Sheet1!B61)/prob1!C$6+1)","v":1.425},{"$f":"prob1!C$8*prob1!C$2*LN((prob1!C$5-Sheet1!B61)/prob1!C$7+1)","v":1.425},{"$f":"prob1!C$4-prob1!C$6*(EXP(Sheet1!A61/prob1!C$8/prob1!C$2)-1)","v":-6.1540516383694031E+37},{"$f":"prob1!C$5-prob1!C$7*(EXP(Sheet1!A61/prob1!C$8/prob1!C$2)-1)","v":-6.1540516383694031E+37},{"$f":"prob1!C$10-prob1!C$11*(EXP(Sheet1!A61/prob1!C$12/prob1!C$2)-1)","v":-78447763756252.813},-156895527512565.63]
[2.9,{"$f":"prob1!C$16-SQRT((prob1!C$17/2)^2+prob1!C$6*prob1!C$7*EXP(Sheet1!A62/prob1!C$8/prob1!C$2))","v":-205960404404698.13},{"$f":"prob1!C$8*prob1!C$2*LN((prob1!C$4-Sheet1!B62)/prob1!C$6+1)","v":1.45},{"$f":"prob1!C$8*prob1!C$2*LN((prob1!C$5-Sheet1!B62)/prob1!C$7+1)","v":1.45},{"$f":"prob1!C$4-prob1!C$6*(EXP(Sheet1!A62/prob1!C$8/prob1!C$2)-1)","v":-4.2419688182555039E+38},{"$f":"prob1!C$5-prob1!C$7*(EXP(Sheet1!A62/prob1!C$8/prob1!C$2)-1)","v":-4.2419688182555039E+38},{"$f":"prob1!C$10-prob1!C$11*(EXP(Sheet1!A62/prob1!C$12/prob1!C$2)-1)","v":-205960404404638.13},-411920808809336.25]
[2.95,{"$f":"prob1!C$16-SQRT((prob1!C$17/2)^2+prob1!C$6*prob1!C$7*EXP(Sheet1!A63/prob1!C$8/prob1!C$2))","v":-540738016628672.63},{"$f":"prob1!C$8*prob1!C$2*LN((prob1!C$4-Sheet1!B63)/prob1!C$6+1)","v":1.4750000000000001},{"$f":"prob1!C$8*prob1!C$2*LN((prob1!C$5-Sheet1!B63)/prob1!C$7+1)","v":1.4750000000000001},{"$f":"prob1!C$4-prob1!C$6*(EXP(Sheet1!A63/prob1!C$8/prob1!C$2)-1)","v":-2.9239760262753225E+39},{"$f":"prob1!C$5-prob1!C$7*(EXP(Sheet1!A63/prob1!C$8/prob1!C$2)-1)","v":-2.9239760262753225E+39},{"$f":"prob1!C$10-prob1!C$11*(EXP(Sheet1!A63/prob1!C$12/prob1!C$2)-1)","v":-540738016628612.56},-1081476033257285.3]
[3,{"$f":"prob1!C$16-SQRT((prob1!C$17/2)^2+prob1!C$6*prob1!C$7*EXP(Sheet1!A64/prob1!C$8/prob1!C$2))","v":-1419678716754480},{"$f":"prob1!C$8*prob1!C$2*LN((prob1!C$4-Sheet1!B64)/prob1!C$6+1)","v":1.5},{"$f":"prob1!C$8*prob1!C$2*LN((prob1!C$5-Sheet1!B64)/prob1!C$7+1)","v":1.5},{"$f":"prob1!C$4-prob1!C$6*(EXP(Sheet1!A64/prob1!C$8/prob1!C$2)-1)","v":-2.0154876588057037E+40},{"$f":"prob1!C$5-prob1!C$7*(EXP(Sheet1!A64/prob1!C$8/prob1!C$2)-1)","v":-2.0154876588057037E+40},{"$f":"prob1!C$10-prob1!C$11*(EXP(Sheet1!A64/prob1!C$12/prob1!C$2)-1)","v":-1419678716754420},-2839357433508900]

{"sheet":"const","index":2,"n_rows":27,"n_cols":9,"rows_kept":27,"cut":false,"hidden":false,"merged":[]}
["Fundamental Constants:"]
["Description"]
["Planck constant","h (J.s)",6.6260687599999996E-34,null,"h (eV.s)",{"$f":"C3/C5","v":4.13566727333434E-15}]
["speed of light","c (m/s)",299792458]
["fundamental electric charge","e (C)",1.6021764620000001E-19]
["Boltzmann constant","k_B (J/K)",1.3806503000000001E-23,null,"k_B (eV/K)",{"$f":"C6/C5","v":8.6173423012127608E-5}]
["electron mass","m_e (kg)",9.1093818800000006E-31,null,"m_e·c^2 (J)",{"$f":"C7*C4^2","v":8.1871041397413285E-14},null,"m_e·c^2 (eV)",{"$f":"F7/C5","v":510998.90267526149}]
["Avagodro number","N_A (1/mole)",6.0221415000000003E+23]
["permitivitty of free space","eps0 (F/m)",8.8541878170000005E-12]
[]
[]
[]
["Derived Constants:"]
["Description"]
["room temp. thermal energy","k_B·(300K) (eV)",{"$f":"300*const!C6/const!C5","v":2.5852026903638286E-2}]
["Planck constant x speed of light","h·c (eV·nm)",{"$f":"const!F3*const!C4*1000000000","v":1239.8418573430597},null,"h·c (KeV·nm)",{"$f":"C16/1000","v":1.2398418573430596}]
["universal gas constant","R (J/mol/K)",{"$f":"const!C6*const!C8","v":8.3144714686174517}]
["Faraday Constant","F (C/mol)",{"$f":"const!C8*const!C5","v":96485.333621333746}]
["Stefan Constant","ss (W.m^2/K)",{"$f":"2*PI()^5/15*C6^4/C3^3/C4^2","v":5.6703993443637977E-8}]
["h_bar",null,{"$f":"C3/2/PI()","v":1.0545715964207855E-34}]
["Bohr Radius","a0 (m)",{"$f":"4*PI()*C9*C20^2/C7/C5^2","v":5.2917720857030988E-11}]
["Rydberg",null,{"$f":"C20^2/2/C7/C21^2","v":2.1798719016382761E-18},null,null,{"$f":"C22/C5","v":13.60569171586217}]
["Reference effective DOS","N0 (cm^-3)",{"$f":"2*(2*PI()*I7*C15/(C16/10000000)^2)^1.5","v":2.5094165960582709E+19}]
[]
["astronomical values"]
["earth-sun distance","Des (m)",150000000000]
["sun diameter","ds (m)",1390000000]